BEGIN:VCALENDAR
VERSION:2.0
PRODID:-//Pilgrim Rest Baptist Church - ECPv6.15.17.1//NONSGML v1.0//EN
CALSCALE:GREGORIAN
METHOD:PUBLISH
X-WR-CALNAME:Pilgrim Rest Baptist Church
X-ORIGINAL-URL:https://pilgrimrestphx.org
X-WR-CALDESC:Events for Pilgrim Rest Baptist Church
REFRESH-INTERVAL;VALUE=DURATION:PT1H
X-Robots-Tag:noindex
X-PUBLISHED-TTL:PT1H
BEGIN:VTIMEZONE
TZID:UTC
BEGIN:STANDARD
TZOFFSETFROM:+0000
TZOFFSETTO:+0000
TZNAME:UTC
DTSTART:20230101T000000
END:STANDARD
END:VTIMEZONE
BEGIN:VEVENT
DTSTART;TZID=UTC:20240901T080000
DTEND;TZID=UTC:20240901T093000
DTSTAMP:20260424T175303
CREATED:20240501T175819Z
LAST-MODIFIED:20240501T175819Z
UID:10000256-1725177600-1725183000@pilgrimrestphx.org
SUMMARY:Early Morning Worship
DESCRIPTION:
URL:https://pilgrimrestphx.org/event/early-morning-worship/2024-09-01/
LOCATION:Pilgrim Rest Baptist Church\, 1401 E Jefferson St\, Phoenix\, AZ 85034\, United States
CATEGORIES:Worship
END:VEVENT
BEGIN:VEVENT
DTSTART;TZID=UTC:20240901T093000
DTEND;TZID=UTC:20240901T103000
DTSTAMP:20260424T175303
CREATED:20240815T163907Z
LAST-MODIFIED:20240815T163907Z
UID:10000765-1725183000-1725186600@pilgrimrestphx.org
SUMMARY:Sunday School
DESCRIPTION:
URL:https://pilgrimrestphx.org/event/sunday-school-8-2/
CATEGORIES:Worship
END:VEVENT
BEGIN:VEVENT
DTSTART;TZID=UTC:20240901T104500
DTEND;TZID=UTC:20240901T123000
DTSTAMP:20260424T175303
CREATED:20240501T175932Z
LAST-MODIFIED:20240501T175932Z
UID:10000513-1725187500-1725193800@pilgrimrestphx.org
SUMMARY:Mid-Morning Worship
DESCRIPTION:
URL:https://pilgrimrestphx.org/event/mid-morning-worship/2024-09-01/
LOCATION:Pilgrim Rest Baptist Church\, 1401 E Jefferson St\, Phoenix\, AZ 85034\, United States
CATEGORIES:Worship
END:VEVENT
BEGIN:VEVENT
DTSTART;TZID=UTC:20240904T183000
DTEND;TZID=UTC:20240904T193000
DTSTAMP:20260424T175303
CREATED:20240815T164231Z
LAST-MODIFIED:20241206T190628Z
UID:10001018-1725474600-1725478200@pilgrimrestphx.org
SUMMARY:Bible Study
DESCRIPTION:
URL:https://pilgrimrestphx.org/event/bible-study-7-2/2024-09-04/
LOCATION:Pilgrim Rest Baptist Church\, 1401 E Jefferson St\, Phoenix\, AZ 85034\, United States
CATEGORIES:Worship
END:VEVENT
BEGIN:VEVENT
DTSTART;TZID=UTC:20240908T080000
DTEND;TZID=UTC:20240908T093000
DTSTAMP:20260424T175303
CREATED:20240501T175819Z
LAST-MODIFIED:20240501T175819Z
UID:10000257-1725782400-1725787800@pilgrimrestphx.org
SUMMARY:Early Morning Worship
DESCRIPTION:
URL:https://pilgrimrestphx.org/event/early-morning-worship/2024-09-08/
LOCATION:Pilgrim Rest Baptist Church\, 1401 E Jefferson St\, Phoenix\, AZ 85034\, United States
CATEGORIES:Worship
END:VEVENT
BEGIN:VEVENT
DTSTART;TZID=UTC:20240908T104500
DTEND;TZID=UTC:20240908T123000
DTSTAMP:20260424T175303
CREATED:20240501T175932Z
LAST-MODIFIED:20240501T175932Z
UID:10000514-1725792300-1725798600@pilgrimrestphx.org
SUMMARY:Mid-Morning Worship
DESCRIPTION:
URL:https://pilgrimrestphx.org/event/mid-morning-worship/2024-09-08/
LOCATION:Pilgrim Rest Baptist Church\, 1401 E Jefferson St\, Phoenix\, AZ 85034\, United States
CATEGORIES:Worship
END:VEVENT
BEGIN:VEVENT
DTSTART;TZID=UTC:20240911T183000
DTEND;TZID=UTC:20240911T183000
DTSTAMP:20260424T175303
CREATED:20240815T164645Z
LAST-MODIFIED:20241206T190057Z
UID:10001598-1726079400-1726079400@pilgrimrestphx.org
SUMMARY:Bible Study
DESCRIPTION:
URL:https://pilgrimrestphx.org/event/bible-study-8/2024-09-11/
LOCATION:Pilgrim Rest Baptist Church\, 1401 E Jefferson St\, Phoenix\, AZ 85034\, United States
CATEGORIES:Worship
END:VEVENT
BEGIN:VEVENT
DTSTART;TZID=UTC:20240915T080000
DTEND;TZID=UTC:20240915T093000
DTSTAMP:20260424T175303
CREATED:20240501T175819Z
LAST-MODIFIED:20240501T175819Z
UID:10000258-1726387200-1726392600@pilgrimrestphx.org
SUMMARY:Early Morning Worship
DESCRIPTION:
URL:https://pilgrimrestphx.org/event/early-morning-worship/2024-09-15/
LOCATION:Pilgrim Rest Baptist Church\, 1401 E Jefferson St\, Phoenix\, AZ 85034\, United States
CATEGORIES:Worship
END:VEVENT
BEGIN:VEVENT
DTSTART;TZID=UTC:20240915T104500
DTEND;TZID=UTC:20240915T123000
DTSTAMP:20260424T175303
CREATED:20240501T175932Z
LAST-MODIFIED:20240501T175932Z
UID:10000515-1726397100-1726403400@pilgrimrestphx.org
SUMMARY:Mid-Morning Worship
DESCRIPTION:
URL:https://pilgrimrestphx.org/event/mid-morning-worship/2024-09-15/
LOCATION:Pilgrim Rest Baptist Church\, 1401 E Jefferson St\, Phoenix\, AZ 85034\, United States
CATEGORIES:Worship
END:VEVENT
BEGIN:VEVENT
DTSTART;TZID=UTC:20240922T080000
DTEND;TZID=UTC:20240922T093000
DTSTAMP:20260424T175303
CREATED:20240501T175819Z
LAST-MODIFIED:20240501T175819Z
UID:10000259-1726992000-1726997400@pilgrimrestphx.org
SUMMARY:Early Morning Worship
DESCRIPTION:
URL:https://pilgrimrestphx.org/event/early-morning-worship/2024-09-22/
LOCATION:Pilgrim Rest Baptist Church\, 1401 E Jefferson St\, Phoenix\, AZ 85034\, United States
CATEGORIES:Worship
END:VEVENT
BEGIN:VEVENT
DTSTART;TZID=UTC:20240922T104500
DTEND;TZID=UTC:20240922T123000
DTSTAMP:20260424T175303
CREATED:20240501T175932Z
LAST-MODIFIED:20240501T175932Z
UID:10000516-1727001900-1727008200@pilgrimrestphx.org
SUMMARY:Mid-Morning Worship
DESCRIPTION:
URL:https://pilgrimrestphx.org/event/mid-morning-worship/2024-09-22/
LOCATION:Pilgrim Rest Baptist Church\, 1401 E Jefferson St\, Phoenix\, AZ 85034\, United States
CATEGORIES:Worship
END:VEVENT
BEGIN:VEVENT
DTSTART;TZID=UTC:20240929T080000
DTEND;TZID=UTC:20240929T093000
DTSTAMP:20260424T175303
CREATED:20240501T175819Z
LAST-MODIFIED:20240501T175819Z
UID:10000260-1727596800-1727602200@pilgrimrestphx.org
SUMMARY:Early Morning Worship
DESCRIPTION:
URL:https://pilgrimrestphx.org/event/early-morning-worship/2024-09-29/
LOCATION:Pilgrim Rest Baptist Church\, 1401 E Jefferson St\, Phoenix\, AZ 85034\, United States
CATEGORIES:Worship
END:VEVENT
BEGIN:VEVENT
DTSTART;TZID=UTC:20240929T104500
DTEND;TZID=UTC:20240929T123000
DTSTAMP:20260424T175303
CREATED:20240501T175932Z
LAST-MODIFIED:20240501T175932Z
UID:10000517-1727606700-1727613000@pilgrimrestphx.org
SUMMARY:Mid-Morning Worship
DESCRIPTION:
URL:https://pilgrimrestphx.org/event/mid-morning-worship/2024-09-29/
LOCATION:Pilgrim Rest Baptist Church\, 1401 E Jefferson St\, Phoenix\, AZ 85034\, United States
CATEGORIES:Worship
END:VEVENT
END:VCALENDAR