BEGIN:VCALENDAR
VERSION:2.0
PRODID:-//Pilgrim Rest Baptist Church - ECPv6.15.17.1//NONSGML v1.0//EN
CALSCALE:GREGORIAN
METHOD:PUBLISH
X-ORIGINAL-URL:https://pilgrimrestphx.org
X-WR-CALDESC:Events for Pilgrim Rest Baptist Church
REFRESH-INTERVAL;VALUE=DURATION:PT1H
X-Robots-Tag:noindex
X-PUBLISHED-TTL:PT1H
BEGIN:VTIMEZONE
TZID:UTC
BEGIN:STANDARD
TZOFFSETFROM:+0000
TZOFFSETTO:+0000
TZNAME:UTC
DTSTART:20240101T000000
END:STANDARD
END:VTIMEZONE
BEGIN:VEVENT
DTSTART;TZID=UTC:20250402T183000
DTEND;TZID=UTC:20250402T193000
DTSTAMP:20260424T083810
CREATED:20240815T164231Z
LAST-MODIFIED:20241206T190628Z
UID:10001024-1743618600-1743622200@pilgrimrestphx.org
SUMMARY:Bible Study
DESCRIPTION:
URL:https://pilgrimrestphx.org/event/bible-study-7-2/2025-04-02/
LOCATION:Pilgrim Rest Baptist Church\, 1401 E Jefferson St\, Phoenix\, AZ 85034\, United States
CATEGORIES:Worship
END:VEVENT
BEGIN:VEVENT
DTSTART;TZID=UTC:20250406T080000
DTEND;TZID=UTC:20250406T093000
DTSTAMP:20260424T083810
CREATED:20240501T175819Z
LAST-MODIFIED:20240501T175819Z
UID:10000287-1743926400-1743931800@pilgrimrestphx.org
SUMMARY:Early Morning Worship
DESCRIPTION:
URL:https://pilgrimrestphx.org/event/early-morning-worship/2025-04-06/
LOCATION:Pilgrim Rest Baptist Church\, 1401 E Jefferson St\, Phoenix\, AZ 85034\, United States
CATEGORIES:Worship
END:VEVENT
BEGIN:VEVENT
DTSTART;TZID=UTC:20250406T104500
DTEND;TZID=UTC:20250406T123000
DTSTAMP:20260424T083810
CREATED:20240501T175932Z
LAST-MODIFIED:20240501T175932Z
UID:10000544-1743936300-1743942600@pilgrimrestphx.org
SUMMARY:Mid-Morning Worship
DESCRIPTION:
URL:https://pilgrimrestphx.org/event/mid-morning-worship/2025-04-06/
LOCATION:Pilgrim Rest Baptist Church\, 1401 E Jefferson St\, Phoenix\, AZ 85034\, United States
CATEGORIES:Worship
END:VEVENT
BEGIN:VEVENT
DTSTART;TZID=UTC:20250409T183000
DTEND;TZID=UTC:20250409T183000
DTSTAMP:20260424T083810
CREATED:20240815T164645Z
LAST-MODIFIED:20241206T190057Z
UID:10001605-1744223400-1744223400@pilgrimrestphx.org
SUMMARY:Bible Study
DESCRIPTION:
URL:https://pilgrimrestphx.org/event/bible-study-8/2025-04-09/
LOCATION:Pilgrim Rest Baptist Church\, 1401 E Jefferson St\, Phoenix\, AZ 85034\, United States
CATEGORIES:Worship
END:VEVENT
BEGIN:VEVENT
DTSTART;TZID=UTC:20250413T080000
DTEND;TZID=UTC:20250413T093000
DTSTAMP:20260424T083810
CREATED:20250401T232414Z
LAST-MODIFIED:20250401T232433Z
UID:10000288-1744531200-1744536600@pilgrimrestphx.org
SUMMARY:Early Morning Worship Palm Sunday
DESCRIPTION:
URL:https://pilgrimrestphx.org/event/early-morning-worship-2/
LOCATION:Pilgrim Rest Baptist Church\, 1401 E Jefferson St\, Phoenix\, AZ 85034\, United States
CATEGORIES:Worship
END:VEVENT
BEGIN:VEVENT
DTSTART;TZID=UTC:20250413T104500
DTEND;TZID=UTC:20250413T123000
DTSTAMP:20260424T083810
CREATED:20240501T175932Z
LAST-MODIFIED:20240501T175932Z
UID:10000545-1744541100-1744547400@pilgrimrestphx.org
SUMMARY:Mid-Morning Worship
DESCRIPTION:
URL:https://pilgrimrestphx.org/event/mid-morning-worship/2025-04-13/
LOCATION:Pilgrim Rest Baptist Church\, 1401 E Jefferson St\, Phoenix\, AZ 85034\, United States
CATEGORIES:Worship
END:VEVENT
BEGIN:VEVENT
DTSTART;TZID=UTC:20250420T080000
DTEND;TZID=UTC:20250420T093000
DTSTAMP:20260424T083810
CREATED:20250401T232725Z
LAST-MODIFIED:20250401T232725Z
UID:10000289-1745136000-1745141400@pilgrimrestphx.org
SUMMARY:Early Morning Worship - Easter Sunday
DESCRIPTION:
URL:https://pilgrimrestphx.org/event/early-morning-worship-3/
LOCATION:Pilgrim Rest Baptist Church\, 1401 E Jefferson St\, Phoenix\, AZ 85034\, United States
CATEGORIES:Worship
END:VEVENT
BEGIN:VEVENT
DTSTART;TZID=UTC:20250420T110000
DTEND;TZID=UTC:20250420T130000
DTSTAMP:20260424T083810
CREATED:20250401T232813Z
LAST-MODIFIED:20250401T232813Z
UID:10000546-1745146800-1745154000@pilgrimrestphx.org
SUMMARY:Mid-Morning Worship - Easter Service
DESCRIPTION:
URL:https://pilgrimrestphx.org/event/mid-morning-worship-2/
LOCATION:Pilgrim Rest Baptist Church\, 1401 E Jefferson St\, Phoenix\, AZ 85034\, United States
CATEGORIES:Worship
END:VEVENT
BEGIN:VEVENT
DTSTART;TZID=UTC:20250427T080000
DTEND;TZID=UTC:20250427T093000
DTSTAMP:20260424T083810
CREATED:20240501T175819Z
LAST-MODIFIED:20240501T175819Z
UID:10000290-1745740800-1745746200@pilgrimrestphx.org
SUMMARY:Early Morning Worship
DESCRIPTION:
URL:https://pilgrimrestphx.org/event/early-morning-worship/2025-04-27/
LOCATION:Pilgrim Rest Baptist Church\, 1401 E Jefferson St\, Phoenix\, AZ 85034\, United States
CATEGORIES:Worship
END:VEVENT
BEGIN:VEVENT
DTSTART;TZID=UTC:20250427T104500
DTEND;TZID=UTC:20250427T123000
DTSTAMP:20260424T083810
CREATED:20240501T175932Z
LAST-MODIFIED:20240501T175932Z
UID:10000547-1745750700-1745757000@pilgrimrestphx.org
SUMMARY:Mid-Morning Worship
DESCRIPTION:
URL:https://pilgrimrestphx.org/event/mid-morning-worship/2025-04-27/
LOCATION:Pilgrim Rest Baptist Church\, 1401 E Jefferson St\, Phoenix\, AZ 85034\, United States
CATEGORIES:Worship
END:VEVENT
END:VCALENDAR