BEGIN:VCALENDAR
VERSION:2.0
PRODID:-//Pilgrim Rest Baptist Church - ECPv6.15.17.1//NONSGML v1.0//EN
CALSCALE:GREGORIAN
METHOD:PUBLISH
X-WR-CALNAME:Pilgrim Rest Baptist Church
X-ORIGINAL-URL:https://pilgrimrestphx.org
X-WR-CALDESC:Events for Pilgrim Rest Baptist Church
REFRESH-INTERVAL;VALUE=DURATION:PT1H
X-Robots-Tag:noindex
X-PUBLISHED-TTL:PT1H
BEGIN:VTIMEZONE
TZID:UTC
BEGIN:STANDARD
TZOFFSETFROM:+0000
TZOFFSETTO:+0000
TZNAME:UTC
DTSTART:20240101T000000
END:STANDARD
END:VTIMEZONE
BEGIN:VEVENT
DTSTART;TZID=UTC:20250504T080000
DTEND;TZID=UTC:20250504T093000
DTSTAMP:20260424T070941
CREATED:20240501T175819Z
LAST-MODIFIED:20240501T175819Z
UID:10000291-1746345600-1746351000@pilgrimrestphx.org
SUMMARY:Early Morning Worship
DESCRIPTION:
URL:https://pilgrimrestphx.org/event/early-morning-worship/2025-05-04/
LOCATION:Pilgrim Rest Baptist Church\, 1401 E Jefferson St\, Phoenix\, AZ 85034\, United States
CATEGORIES:Worship
END:VEVENT
BEGIN:VEVENT
DTSTART;TZID=UTC:20250504T104500
DTEND;TZID=UTC:20250504T123000
DTSTAMP:20260424T070941
CREATED:20240501T175932Z
LAST-MODIFIED:20240501T175932Z
UID:10000548-1746355500-1746361800@pilgrimrestphx.org
SUMMARY:Mid-Morning Worship
DESCRIPTION:
URL:https://pilgrimrestphx.org/event/mid-morning-worship/2025-05-04/
LOCATION:Pilgrim Rest Baptist Church\, 1401 E Jefferson St\, Phoenix\, AZ 85034\, United States
CATEGORIES:Worship
END:VEVENT
BEGIN:VEVENT
DTSTART;TZID=UTC:20250507T183000
DTEND;TZID=UTC:20250507T193000
DTSTAMP:20260424T070941
CREATED:20240815T164231Z
LAST-MODIFIED:20241206T190628Z
UID:10001025-1746642600-1746646200@pilgrimrestphx.org
SUMMARY:Bible Study
DESCRIPTION:
URL:https://pilgrimrestphx.org/event/bible-study-7-2/2025-05-07/
LOCATION:Pilgrim Rest Baptist Church\, 1401 E Jefferson St\, Phoenix\, AZ 85034\, United States
CATEGORIES:Worship
END:VEVENT
BEGIN:VEVENT
DTSTART;TZID=UTC:20250511T080000
DTEND;TZID=UTC:20250511T093000
DTSTAMP:20260424T070941
CREATED:20240501T175819Z
LAST-MODIFIED:20240501T175819Z
UID:10000292-1746950400-1746955800@pilgrimrestphx.org
SUMMARY:Early Morning Worship
DESCRIPTION:
URL:https://pilgrimrestphx.org/event/early-morning-worship/2025-05-11/
LOCATION:Pilgrim Rest Baptist Church\, 1401 E Jefferson St\, Phoenix\, AZ 85034\, United States
CATEGORIES:Worship
END:VEVENT
BEGIN:VEVENT
DTSTART;TZID=UTC:20250511T104500
DTEND;TZID=UTC:20250511T123000
DTSTAMP:20260424T070941
CREATED:20240501T175932Z
LAST-MODIFIED:20240501T175932Z
UID:10000549-1746960300-1746966600@pilgrimrestphx.org
SUMMARY:Mid-Morning Worship
DESCRIPTION:
URL:https://pilgrimrestphx.org/event/mid-morning-worship/2025-05-11/
LOCATION:Pilgrim Rest Baptist Church\, 1401 E Jefferson St\, Phoenix\, AZ 85034\, United States
CATEGORIES:Worship
END:VEVENT
BEGIN:VEVENT
DTSTART;TZID=UTC:20250514T183000
DTEND;TZID=UTC:20250514T183000
DTSTAMP:20260424T070941
CREATED:20240815T164645Z
LAST-MODIFIED:20241206T190057Z
UID:10001606-1747247400-1747247400@pilgrimrestphx.org
SUMMARY:Bible Study
DESCRIPTION:
URL:https://pilgrimrestphx.org/event/bible-study-8/2025-05-14/
LOCATION:Pilgrim Rest Baptist Church\, 1401 E Jefferson St\, Phoenix\, AZ 85034\, United States
CATEGORIES:Worship
END:VEVENT
BEGIN:VEVENT
DTSTART;TZID=UTC:20250518T080000
DTEND;TZID=UTC:20250518T093000
DTSTAMP:20260424T070941
CREATED:20250401T233628Z
LAST-MODIFIED:20250401T233628Z
UID:10000293-1747555200-1747560600@pilgrimrestphx.org
SUMMARY:103rd Church Anniversary Early Morning Worship
DESCRIPTION:
URL:https://pilgrimrestphx.org/event/early-morning-worship-4/
LOCATION:Pilgrim Rest Baptist Church\, 1401 E Jefferson St\, Phoenix\, AZ 85034\, United States
CATEGORIES:Worship
END:VEVENT
BEGIN:VEVENT
DTSTART;TZID=UTC:20250518T104500
DTEND;TZID=UTC:20250518T123000
DTSTAMP:20260424T070941
CREATED:20250401T233717Z
LAST-MODIFIED:20250401T233718Z
UID:10000550-1747565100-1747571400@pilgrimrestphx.org
SUMMARY:103rd Church Anniversary Mid-Morning Worship
DESCRIPTION:
URL:https://pilgrimrestphx.org/event/mid-morning-worship-3/
LOCATION:Pilgrim Rest Baptist Church\, 1401 E Jefferson St\, Phoenix\, AZ 85034\, United States
CATEGORIES:Worship
END:VEVENT
BEGIN:VEVENT
DTSTART;TZID=UTC:20250525T080000
DTEND;TZID=UTC:20250525T093000
DTSTAMP:20260424T070941
CREATED:20240501T175819Z
LAST-MODIFIED:20240501T175819Z
UID:10000294-1748160000-1748165400@pilgrimrestphx.org
SUMMARY:Early Morning Worship
DESCRIPTION:
URL:https://pilgrimrestphx.org/event/early-morning-worship/2025-05-25/
LOCATION:Pilgrim Rest Baptist Church\, 1401 E Jefferson St\, Phoenix\, AZ 85034\, United States
CATEGORIES:Worship
END:VEVENT
BEGIN:VEVENT
DTSTART;TZID=UTC:20250525T104500
DTEND;TZID=UTC:20250525T123000
DTSTAMP:20260424T070941
CREATED:20240501T175932Z
LAST-MODIFIED:20240501T175932Z
UID:10000551-1748169900-1748176200@pilgrimrestphx.org
SUMMARY:Mid-Morning Worship
DESCRIPTION:
URL:https://pilgrimrestphx.org/event/mid-morning-worship/2025-05-25/
LOCATION:Pilgrim Rest Baptist Church\, 1401 E Jefferson St\, Phoenix\, AZ 85034\, United States
CATEGORIES:Worship
END:VEVENT
END:VCALENDAR