BEGIN:VCALENDAR
VERSION:2.0
PRODID:-//Pilgrim Rest Baptist Church - ECPv6.15.17.1//NONSGML v1.0//EN
CALSCALE:GREGORIAN
METHOD:PUBLISH
X-WR-CALNAME:Pilgrim Rest Baptist Church
X-ORIGINAL-URL:https://pilgrimrestphx.org
X-WR-CALDESC:Events for Pilgrim Rest Baptist Church
REFRESH-INTERVAL;VALUE=DURATION:PT1H
X-Robots-Tag:noindex
X-PUBLISHED-TTL:PT1H
BEGIN:VTIMEZONE
TZID:UTC
BEGIN:STANDARD
TZOFFSETFROM:+0000
TZOFFSETTO:+0000
TZNAME:UTC
DTSTART:20240101T000000
END:STANDARD
END:VTIMEZONE
BEGIN:VEVENT
DTSTART;TZID=UTC:20251102T080000
DTEND;TZID=UTC:20251102T093000
DTSTAMP:20260423T230901
CREATED:20240501T175819Z
LAST-MODIFIED:20240501T175819Z
UID:10000317-1762070400-1762075800@pilgrimrestphx.org
SUMMARY:Early Morning Worship
DESCRIPTION:
URL:https://pilgrimrestphx.org/event/early-morning-worship/2025-11-02/
LOCATION:Pilgrim Rest Baptist Church\, 1401 E Jefferson St\, Phoenix\, AZ 85034\, United States
CATEGORIES:Worship
END:VEVENT
BEGIN:VEVENT
DTSTART;TZID=UTC:20251102T104500
DTEND;TZID=UTC:20251102T123000
DTSTAMP:20260423T230901
CREATED:20240501T175932Z
LAST-MODIFIED:20240501T175932Z
UID:10000574-1762080300-1762086600@pilgrimrestphx.org
SUMMARY:Mid-Morning Worship
DESCRIPTION:
URL:https://pilgrimrestphx.org/event/mid-morning-worship/2025-11-02/
LOCATION:Pilgrim Rest Baptist Church\, 1401 E Jefferson St\, Phoenix\, AZ 85034\, United States
CATEGORIES:Worship
END:VEVENT
BEGIN:VEVENT
DTSTART;TZID=UTC:20251105T183000
DTEND;TZID=UTC:20251105T193000
DTSTAMP:20260423T230901
CREATED:20240815T164231Z
LAST-MODIFIED:20241206T190628Z
UID:10001031-1762367400-1762371000@pilgrimrestphx.org
SUMMARY:Bible Study
DESCRIPTION:
URL:https://pilgrimrestphx.org/event/bible-study-7-2/2025-11-05/
LOCATION:Pilgrim Rest Baptist Church\, 1401 E Jefferson St\, Phoenix\, AZ 85034\, United States
CATEGORIES:Worship
END:VEVENT
BEGIN:VEVENT
DTSTART;TZID=UTC:20251109T080000
DTEND;TZID=UTC:20251109T093000
DTSTAMP:20260423T230901
CREATED:20240501T175819Z
LAST-MODIFIED:20240501T175819Z
UID:10000318-1762675200-1762680600@pilgrimrestphx.org
SUMMARY:Early Morning Worship
DESCRIPTION:
URL:https://pilgrimrestphx.org/event/early-morning-worship/2025-11-09/
LOCATION:Pilgrim Rest Baptist Church\, 1401 E Jefferson St\, Phoenix\, AZ 85034\, United States
CATEGORIES:Worship
END:VEVENT
BEGIN:VEVENT
DTSTART;TZID=UTC:20251109T104500
DTEND;TZID=UTC:20251109T123000
DTSTAMP:20260423T230901
CREATED:20240501T175932Z
LAST-MODIFIED:20240501T175932Z
UID:10000575-1762685100-1762691400@pilgrimrestphx.org
SUMMARY:Mid-Morning Worship
DESCRIPTION:
URL:https://pilgrimrestphx.org/event/mid-morning-worship/2025-11-09/
LOCATION:Pilgrim Rest Baptist Church\, 1401 E Jefferson St\, Phoenix\, AZ 85034\, United States
CATEGORIES:Worship
END:VEVENT
BEGIN:VEVENT
DTSTART;TZID=UTC:20251112T183000
DTEND;TZID=UTC:20251112T183000
DTSTAMP:20260423T230901
CREATED:20240815T164645Z
LAST-MODIFIED:20241206T190057Z
UID:10001612-1762972200-1762972200@pilgrimrestphx.org
SUMMARY:Bible Study
DESCRIPTION:
URL:https://pilgrimrestphx.org/event/bible-study-8/2025-11-12/
LOCATION:Pilgrim Rest Baptist Church\, 1401 E Jefferson St\, Phoenix\, AZ 85034\, United States
CATEGORIES:Worship
END:VEVENT
BEGIN:VEVENT
DTSTART;TZID=UTC:20251116T080000
DTEND;TZID=UTC:20251116T093000
DTSTAMP:20260423T230901
CREATED:20240501T175819Z
LAST-MODIFIED:20240501T175819Z
UID:10000319-1763280000-1763285400@pilgrimrestphx.org
SUMMARY:Early Morning Worship
DESCRIPTION:
URL:https://pilgrimrestphx.org/event/early-morning-worship/2025-11-16/
LOCATION:Pilgrim Rest Baptist Church\, 1401 E Jefferson St\, Phoenix\, AZ 85034\, United States
CATEGORIES:Worship
END:VEVENT
BEGIN:VEVENT
DTSTART;TZID=UTC:20251116T104500
DTEND;TZID=UTC:20251116T123000
DTSTAMP:20260423T230901
CREATED:20240501T175932Z
LAST-MODIFIED:20240501T175932Z
UID:10000576-1763289900-1763296200@pilgrimrestphx.org
SUMMARY:Mid-Morning Worship
DESCRIPTION:
URL:https://pilgrimrestphx.org/event/mid-morning-worship/2025-11-16/
LOCATION:Pilgrim Rest Baptist Church\, 1401 E Jefferson St\, Phoenix\, AZ 85034\, United States
CATEGORIES:Worship
END:VEVENT
BEGIN:VEVENT
DTSTART;TZID=UTC:20251123T080000
DTEND;TZID=UTC:20251123T093000
DTSTAMP:20260423T230901
CREATED:20240501T175819Z
LAST-MODIFIED:20240501T175819Z
UID:10000320-1763884800-1763890200@pilgrimrestphx.org
SUMMARY:Early Morning Worship
DESCRIPTION:
URL:https://pilgrimrestphx.org/event/early-morning-worship/2025-11-23/
LOCATION:Pilgrim Rest Baptist Church\, 1401 E Jefferson St\, Phoenix\, AZ 85034\, United States
CATEGORIES:Worship
END:VEVENT
BEGIN:VEVENT
DTSTART;TZID=UTC:20251123T104500
DTEND;TZID=UTC:20251123T123000
DTSTAMP:20260423T230901
CREATED:20240501T175932Z
LAST-MODIFIED:20240501T175932Z
UID:10000577-1763894700-1763901000@pilgrimrestphx.org
SUMMARY:Mid-Morning Worship
DESCRIPTION:
URL:https://pilgrimrestphx.org/event/mid-morning-worship/2025-11-23/
LOCATION:Pilgrim Rest Baptist Church\, 1401 E Jefferson St\, Phoenix\, AZ 85034\, United States
CATEGORIES:Worship
END:VEVENT
BEGIN:VEVENT
DTSTART;TZID=UTC:20251130T080000
DTEND;TZID=UTC:20251130T093000
DTSTAMP:20260423T230901
CREATED:20240501T175819Z
LAST-MODIFIED:20240501T175819Z
UID:10000321-1764489600-1764495000@pilgrimrestphx.org
SUMMARY:Early Morning Worship
DESCRIPTION:
URL:https://pilgrimrestphx.org/event/early-morning-worship/2025-11-30/
LOCATION:Pilgrim Rest Baptist Church\, 1401 E Jefferson St\, Phoenix\, AZ 85034\, United States
CATEGORIES:Worship
END:VEVENT
BEGIN:VEVENT
DTSTART;TZID=UTC:20251130T104500
DTEND;TZID=UTC:20251130T123000
DTSTAMP:20260423T230901
CREATED:20240501T175932Z
LAST-MODIFIED:20240501T175932Z
UID:10000578-1764499500-1764505800@pilgrimrestphx.org
SUMMARY:Mid-Morning Worship
DESCRIPTION:
URL:https://pilgrimrestphx.org/event/mid-morning-worship/2025-11-30/
LOCATION:Pilgrim Rest Baptist Church\, 1401 E Jefferson St\, Phoenix\, AZ 85034\, United States
CATEGORIES:Worship
END:VEVENT
END:VCALENDAR