BEGIN:VCALENDAR
VERSION:2.0
PRODID:-//Pilgrim Rest Baptist Church - ECPv6.15.17.1//NONSGML v1.0//EN
CALSCALE:GREGORIAN
METHOD:PUBLISH
X-ORIGINAL-URL:https://pilgrimrestphx.org
X-WR-CALDESC:Events for Pilgrim Rest Baptist Church
REFRESH-INTERVAL;VALUE=DURATION:PT1H
X-Robots-Tag:noindex
X-PUBLISHED-TTL:PT1H
BEGIN:VTIMEZONE
TZID:UTC
BEGIN:STANDARD
TZOFFSETFROM:+0000
TZOFFSETTO:+0000
TZNAME:UTC
DTSTART:20270101T000000
END:STANDARD
END:VTIMEZONE
BEGIN:VEVENT
DTSTART;TZID=UTC:20280305T080000
DTEND;TZID=UTC:20280305T093000
DTSTAMP:20260424T221140
CREATED:20240501T175819Z
LAST-MODIFIED:20240501T175819Z
UID:10000439-1835856000-1835861400@pilgrimrestphx.org
SUMMARY:Early Morning Worship
DESCRIPTION:
URL:https://pilgrimrestphx.org/event/early-morning-worship/2028-03-05/
LOCATION:Pilgrim Rest Baptist Church\, 1401 E Jefferson St\, Phoenix\, AZ 85034\, United States
CATEGORIES:Worship
END:VEVENT
BEGIN:VEVENT
DTSTART;TZID=UTC:20280305T104500
DTEND;TZID=UTC:20280305T123000
DTSTAMP:20260424T221140
CREATED:20240501T175932Z
LAST-MODIFIED:20240501T175932Z
UID:10000696-1835865900-1835872200@pilgrimrestphx.org
SUMMARY:Mid-Morning Worship
DESCRIPTION:
URL:https://pilgrimrestphx.org/event/mid-morning-worship/2028-03-05/
LOCATION:Pilgrim Rest Baptist Church\, 1401 E Jefferson St\, Phoenix\, AZ 85034\, United States
CATEGORIES:Worship
END:VEVENT
BEGIN:VEVENT
DTSTART;TZID=UTC:20280312T080000
DTEND;TZID=UTC:20280312T093000
DTSTAMP:20260424T221140
CREATED:20240501T175819Z
LAST-MODIFIED:20240501T175819Z
UID:10000440-1836460800-1836466200@pilgrimrestphx.org
SUMMARY:Early Morning Worship
DESCRIPTION:
URL:https://pilgrimrestphx.org/event/early-morning-worship/2028-03-12/
LOCATION:Pilgrim Rest Baptist Church\, 1401 E Jefferson St\, Phoenix\, AZ 85034\, United States
CATEGORIES:Worship
END:VEVENT
BEGIN:VEVENT
DTSTART;TZID=UTC:20280312T104500
DTEND;TZID=UTC:20280312T123000
DTSTAMP:20260424T221140
CREATED:20240501T175932Z
LAST-MODIFIED:20240501T175932Z
UID:10000697-1836470700-1836477000@pilgrimrestphx.org
SUMMARY:Mid-Morning Worship
DESCRIPTION:
URL:https://pilgrimrestphx.org/event/mid-morning-worship/2028-03-12/
LOCATION:Pilgrim Rest Baptist Church\, 1401 E Jefferson St\, Phoenix\, AZ 85034\, United States
CATEGORIES:Worship
END:VEVENT
BEGIN:VEVENT
DTSTART;TZID=UTC:20280319T080000
DTEND;TZID=UTC:20280319T093000
DTSTAMP:20260424T221140
CREATED:20240501T175819Z
LAST-MODIFIED:20240501T175819Z
UID:10000441-1837065600-1837071000@pilgrimrestphx.org
SUMMARY:Early Morning Worship
DESCRIPTION:
URL:https://pilgrimrestphx.org/event/early-morning-worship/2028-03-19/
LOCATION:Pilgrim Rest Baptist Church\, 1401 E Jefferson St\, Phoenix\, AZ 85034\, United States
CATEGORIES:Worship
END:VEVENT
BEGIN:VEVENT
DTSTART;TZID=UTC:20280319T104500
DTEND;TZID=UTC:20280319T123000
DTSTAMP:20260424T221140
CREATED:20240501T175932Z
LAST-MODIFIED:20240501T175932Z
UID:10000698-1837075500-1837081800@pilgrimrestphx.org
SUMMARY:Mid-Morning Worship
DESCRIPTION:
URL:https://pilgrimrestphx.org/event/mid-morning-worship/2028-03-19/
LOCATION:Pilgrim Rest Baptist Church\, 1401 E Jefferson St\, Phoenix\, AZ 85034\, United States
CATEGORIES:Worship
END:VEVENT
BEGIN:VEVENT
DTSTART;TZID=UTC:20280326T080000
DTEND;TZID=UTC:20280326T093000
DTSTAMP:20260424T221140
CREATED:20240501T175819Z
LAST-MODIFIED:20240501T175819Z
UID:10000442-1837670400-1837675800@pilgrimrestphx.org
SUMMARY:Early Morning Worship
DESCRIPTION:
URL:https://pilgrimrestphx.org/event/early-morning-worship/2028-03-26/
LOCATION:Pilgrim Rest Baptist Church\, 1401 E Jefferson St\, Phoenix\, AZ 85034\, United States
CATEGORIES:Worship
END:VEVENT
BEGIN:VEVENT
DTSTART;TZID=UTC:20280326T104500
DTEND;TZID=UTC:20280326T123000
DTSTAMP:20260424T221140
CREATED:20240501T175932Z
LAST-MODIFIED:20240501T175932Z
UID:10000699-1837680300-1837686600@pilgrimrestphx.org
SUMMARY:Mid-Morning Worship
DESCRIPTION:
URL:https://pilgrimrestphx.org/event/mid-morning-worship/2028-03-26/
LOCATION:Pilgrim Rest Baptist Church\, 1401 E Jefferson St\, Phoenix\, AZ 85034\, United States
CATEGORIES:Worship
END:VEVENT
END:VCALENDAR