BEGIN:VCALENDAR
VERSION:2.0
PRODID:-//Pilgrim Rest Baptist Church - ECPv6.15.17.1//NONSGML v1.0//EN
CALSCALE:GREGORIAN
METHOD:PUBLISH
X-ORIGINAL-URL:https://pilgrimrestphx.org
X-WR-CALDESC:Events for Pilgrim Rest Baptist Church
REFRESH-INTERVAL;VALUE=DURATION:PT1H
X-Robots-Tag:noindex
X-PUBLISHED-TTL:PT1H
BEGIN:VTIMEZONE
TZID:UTC
BEGIN:STANDARD
TZOFFSETFROM:+0000
TZOFFSETTO:+0000
TZNAME:UTC
DTSTART:20280101T000000
END:STANDARD
END:VTIMEZONE
BEGIN:VEVENT
DTSTART;TZID=UTC:20290107T080000
DTEND;TZID=UTC:20290107T093000
DTSTAMP:20260425T113306
CREATED:20240501T175819Z
LAST-MODIFIED:20240501T175819Z
UID:10000483-1862467200-1862472600@pilgrimrestphx.org
SUMMARY:Early Morning Worship
DESCRIPTION:
URL:https://pilgrimrestphx.org/event/early-morning-worship/2029-01-07/
LOCATION:Pilgrim Rest Baptist Church\, 1401 E Jefferson St\, Phoenix\, AZ 85034\, United States
CATEGORIES:Worship
END:VEVENT
BEGIN:VEVENT
DTSTART;TZID=UTC:20290107T104500
DTEND;TZID=UTC:20290107T123000
DTSTAMP:20260425T113306
CREATED:20240501T175932Z
LAST-MODIFIED:20240501T175932Z
UID:10000740-1862477100-1862483400@pilgrimrestphx.org
SUMMARY:Mid-Morning Worship
DESCRIPTION:
URL:https://pilgrimrestphx.org/event/mid-morning-worship/2029-01-07/
LOCATION:Pilgrim Rest Baptist Church\, 1401 E Jefferson St\, Phoenix\, AZ 85034\, United States
CATEGORIES:Worship
END:VEVENT
BEGIN:VEVENT
DTSTART;TZID=UTC:20290114T080000
DTEND;TZID=UTC:20290114T093000
DTSTAMP:20260425T113306
CREATED:20240501T175819Z
LAST-MODIFIED:20240501T175819Z
UID:10000484-1863072000-1863077400@pilgrimrestphx.org
SUMMARY:Early Morning Worship
DESCRIPTION:
URL:https://pilgrimrestphx.org/event/early-morning-worship/2029-01-14/
LOCATION:Pilgrim Rest Baptist Church\, 1401 E Jefferson St\, Phoenix\, AZ 85034\, United States
CATEGORIES:Worship
END:VEVENT
BEGIN:VEVENT
DTSTART;TZID=UTC:20290114T104500
DTEND;TZID=UTC:20290114T123000
DTSTAMP:20260425T113306
CREATED:20240501T175932Z
LAST-MODIFIED:20240501T175932Z
UID:10000741-1863081900-1863088200@pilgrimrestphx.org
SUMMARY:Mid-Morning Worship
DESCRIPTION:
URL:https://pilgrimrestphx.org/event/mid-morning-worship/2029-01-14/
LOCATION:Pilgrim Rest Baptist Church\, 1401 E Jefferson St\, Phoenix\, AZ 85034\, United States
CATEGORIES:Worship
END:VEVENT
BEGIN:VEVENT
DTSTART;TZID=UTC:20290121T080000
DTEND;TZID=UTC:20290121T093000
DTSTAMP:20260425T113306
CREATED:20240501T175819Z
LAST-MODIFIED:20240501T175819Z
UID:10000485-1863676800-1863682200@pilgrimrestphx.org
SUMMARY:Early Morning Worship
DESCRIPTION:
URL:https://pilgrimrestphx.org/event/early-morning-worship/2029-01-21/
LOCATION:Pilgrim Rest Baptist Church\, 1401 E Jefferson St\, Phoenix\, AZ 85034\, United States
CATEGORIES:Worship
END:VEVENT
BEGIN:VEVENT
DTSTART;TZID=UTC:20290121T104500
DTEND;TZID=UTC:20290121T123000
DTSTAMP:20260425T113306
CREATED:20240501T175932Z
LAST-MODIFIED:20240501T175932Z
UID:10000742-1863686700-1863693000@pilgrimrestphx.org
SUMMARY:Mid-Morning Worship
DESCRIPTION:
URL:https://pilgrimrestphx.org/event/mid-morning-worship/2029-01-21/
LOCATION:Pilgrim Rest Baptist Church\, 1401 E Jefferson St\, Phoenix\, AZ 85034\, United States
CATEGORIES:Worship
END:VEVENT
BEGIN:VEVENT
DTSTART;TZID=UTC:20290128T080000
DTEND;TZID=UTC:20290128T093000
DTSTAMP:20260425T113306
CREATED:20240501T175819Z
LAST-MODIFIED:20240501T175819Z
UID:10000486-1864281600-1864287000@pilgrimrestphx.org
SUMMARY:Early Morning Worship
DESCRIPTION:
URL:https://pilgrimrestphx.org/event/early-morning-worship/2029-01-28/
LOCATION:Pilgrim Rest Baptist Church\, 1401 E Jefferson St\, Phoenix\, AZ 85034\, United States
CATEGORIES:Worship
END:VEVENT
BEGIN:VEVENT
DTSTART;TZID=UTC:20290128T104500
DTEND;TZID=UTC:20290128T123000
DTSTAMP:20260425T113306
CREATED:20240501T175932Z
LAST-MODIFIED:20240501T175932Z
UID:10000743-1864291500-1864297800@pilgrimrestphx.org
SUMMARY:Mid-Morning Worship
DESCRIPTION:
URL:https://pilgrimrestphx.org/event/mid-morning-worship/2029-01-28/
LOCATION:Pilgrim Rest Baptist Church\, 1401 E Jefferson St\, Phoenix\, AZ 85034\, United States
CATEGORIES:Worship
END:VEVENT
END:VCALENDAR