BEGIN:VCALENDAR
VERSION:2.0
PRODID:-//Pilgrim Rest Baptist Church - ECPv6.15.17.1//NONSGML v1.0//EN
CALSCALE:GREGORIAN
METHOD:PUBLISH
X-WR-CALNAME:Pilgrim Rest Baptist Church
X-ORIGINAL-URL:https://pilgrimrestphx.org
X-WR-CALDESC:Events for Pilgrim Rest Baptist Church
REFRESH-INTERVAL;VALUE=DURATION:PT1H
X-Robots-Tag:noindex
X-PUBLISHED-TTL:PT1H
BEGIN:VTIMEZONE
TZID:UTC
BEGIN:STANDARD
TZOFFSETFROM:+0000
TZOFFSETTO:+0000
TZNAME:UTC
DTSTART:20270101T000000
END:STANDARD
END:VTIMEZONE
BEGIN:VEVENT
DTSTART;TZID=UTC:20280202T183000
DTEND;TZID=UTC:20280202T193000
DTSTAMP:20260421T104233
CREATED:20260311T231104Z
LAST-MODIFIED:20260311T231104Z
UID:10002367-1833129000-1833132600@pilgrimrestphx.org
SUMMARY:Bible Study
DESCRIPTION:
URL:https://pilgrimrestphx.org/event/bible-study-10/2028-02-02/
END:VEVENT
BEGIN:VEVENT
DTSTART;TZID=UTC:20280206T080000
DTEND;TZID=UTC:20280206T093000
DTSTAMP:20260421T104233
CREATED:20240501T175819Z
LAST-MODIFIED:20240501T175819Z
UID:10000435-1833436800-1833442200@pilgrimrestphx.org
SUMMARY:Early Morning Worship
DESCRIPTION:
URL:https://pilgrimrestphx.org/event/early-morning-worship/2028-02-06/
LOCATION:Pilgrim Rest Baptist Church\, 1401 E Jefferson St\, Phoenix\, AZ 85034\, United States
CATEGORIES:Worship
END:VEVENT
BEGIN:VEVENT
DTSTART;TZID=UTC:20280206T104500
DTEND;TZID=UTC:20280206T123000
DTSTAMP:20260421T104233
CREATED:20240501T175932Z
LAST-MODIFIED:20240501T175932Z
UID:10000692-1833446700-1833453000@pilgrimrestphx.org
SUMMARY:Mid-Morning Worship
DESCRIPTION:
URL:https://pilgrimrestphx.org/event/mid-morning-worship/2028-02-06/
LOCATION:Pilgrim Rest Baptist Church\, 1401 E Jefferson St\, Phoenix\, AZ 85034\, United States
CATEGORIES:Worship
END:VEVENT
BEGIN:VEVENT
DTSTART;TZID=UTC:20280209T183000
DTEND;TZID=UTC:20280209T193000
DTSTAMP:20260421T104233
CREATED:20260311T230937Z
LAST-MODIFIED:20260311T230937Z
UID:10002308-1833733800-1833737400@pilgrimrestphx.org
SUMMARY:Bible Study
DESCRIPTION:
URL:https://pilgrimrestphx.org/event/bible-study-9/2028-02-09/
END:VEVENT
BEGIN:VEVENT
DTSTART;TZID=UTC:20280213T080000
DTEND;TZID=UTC:20280213T093000
DTSTAMP:20260421T104233
CREATED:20240501T175819Z
LAST-MODIFIED:20240501T175819Z
UID:10000436-1834041600-1834047000@pilgrimrestphx.org
SUMMARY:Early Morning Worship
DESCRIPTION:
URL:https://pilgrimrestphx.org/event/early-morning-worship/2028-02-13/
LOCATION:Pilgrim Rest Baptist Church\, 1401 E Jefferson St\, Phoenix\, AZ 85034\, United States
CATEGORIES:Worship
END:VEVENT
BEGIN:VEVENT
DTSTART;TZID=UTC:20280213T104500
DTEND;TZID=UTC:20280213T123000
DTSTAMP:20260421T104233
CREATED:20240501T175932Z
LAST-MODIFIED:20240501T175932Z
UID:10000693-1834051500-1834057800@pilgrimrestphx.org
SUMMARY:Mid-Morning Worship
DESCRIPTION:
URL:https://pilgrimrestphx.org/event/mid-morning-worship/2028-02-13/
LOCATION:Pilgrim Rest Baptist Church\, 1401 E Jefferson St\, Phoenix\, AZ 85034\, United States
CATEGORIES:Worship
END:VEVENT
BEGIN:VEVENT
DTSTART;TZID=UTC:20280220T080000
DTEND;TZID=UTC:20280220T093000
DTSTAMP:20260421T104233
CREATED:20240501T175819Z
LAST-MODIFIED:20240501T175819Z
UID:10000437-1834646400-1834651800@pilgrimrestphx.org
SUMMARY:Early Morning Worship
DESCRIPTION:
URL:https://pilgrimrestphx.org/event/early-morning-worship/2028-02-20/
LOCATION:Pilgrim Rest Baptist Church\, 1401 E Jefferson St\, Phoenix\, AZ 85034\, United States
CATEGORIES:Worship
END:VEVENT
BEGIN:VEVENT
DTSTART;TZID=UTC:20280220T104500
DTEND;TZID=UTC:20280220T123000
DTSTAMP:20260421T104233
CREATED:20240501T175932Z
LAST-MODIFIED:20240501T175932Z
UID:10000694-1834656300-1834662600@pilgrimrestphx.org
SUMMARY:Mid-Morning Worship
DESCRIPTION:
URL:https://pilgrimrestphx.org/event/mid-morning-worship/2028-02-20/
LOCATION:Pilgrim Rest Baptist Church\, 1401 E Jefferson St\, Phoenix\, AZ 85034\, United States
CATEGORIES:Worship
END:VEVENT
BEGIN:VEVENT
DTSTART;TZID=UTC:20280227T080000
DTEND;TZID=UTC:20280227T093000
DTSTAMP:20260421T104233
CREATED:20240501T175819Z
LAST-MODIFIED:20240501T175819Z
UID:10000438-1835251200-1835256600@pilgrimrestphx.org
SUMMARY:Early Morning Worship
DESCRIPTION:
URL:https://pilgrimrestphx.org/event/early-morning-worship/2028-02-27/
LOCATION:Pilgrim Rest Baptist Church\, 1401 E Jefferson St\, Phoenix\, AZ 85034\, United States
CATEGORIES:Worship
END:VEVENT
BEGIN:VEVENT
DTSTART;TZID=UTC:20280227T104500
DTEND;TZID=UTC:20280227T123000
DTSTAMP:20260421T104233
CREATED:20240501T175932Z
LAST-MODIFIED:20240501T175932Z
UID:10000695-1835261100-1835267400@pilgrimrestphx.org
SUMMARY:Mid-Morning Worship
DESCRIPTION:
URL:https://pilgrimrestphx.org/event/mid-morning-worship/2028-02-27/
LOCATION:Pilgrim Rest Baptist Church\, 1401 E Jefferson St\, Phoenix\, AZ 85034\, United States
CATEGORIES:Worship
END:VEVENT
END:VCALENDAR