BEGIN:VCALENDAR
VERSION:2.0
PRODID:-//Pilgrim Rest Baptist Church - ECPv6.15.17.1//NONSGML v1.0//EN
CALSCALE:GREGORIAN
METHOD:PUBLISH
X-WR-CALNAME:Pilgrim Rest Baptist Church
X-ORIGINAL-URL:https://pilgrimrestphx.org
X-WR-CALDESC:Events for Pilgrim Rest Baptist Church
REFRESH-INTERVAL;VALUE=DURATION:PT1H
X-Robots-Tag:noindex
X-PUBLISHED-TTL:PT1H
BEGIN:VTIMEZONE
TZID:UTC
BEGIN:STANDARD
TZOFFSETFROM:+0000
TZOFFSETTO:+0000
TZNAME:UTC
DTSTART:20270101T000000
END:STANDARD
END:VTIMEZONE
BEGIN:VEVENT
DTSTART;TZID=UTC:20280402T080000
DTEND;TZID=UTC:20280402T093000
DTSTAMP:20260421T140817
CREATED:20240501T175819Z
LAST-MODIFIED:20240501T175819Z
UID:10000443-1838275200-1838280600@pilgrimrestphx.org
SUMMARY:Early Morning Worship
DESCRIPTION:
URL:https://pilgrimrestphx.org/event/early-morning-worship/2028-04-02/
LOCATION:Pilgrim Rest Baptist Church\, 1401 E Jefferson St\, Phoenix\, AZ 85034\, United States
CATEGORIES:Worship
END:VEVENT
BEGIN:VEVENT
DTSTART;TZID=UTC:20280402T104500
DTEND;TZID=UTC:20280402T123000
DTSTAMP:20260421T140817
CREATED:20240501T175932Z
LAST-MODIFIED:20240501T175932Z
UID:10000700-1838285100-1838291400@pilgrimrestphx.org
SUMMARY:Mid-Morning Worship
DESCRIPTION:
URL:https://pilgrimrestphx.org/event/mid-morning-worship/2028-04-02/
LOCATION:Pilgrim Rest Baptist Church\, 1401 E Jefferson St\, Phoenix\, AZ 85034\, United States
CATEGORIES:Worship
END:VEVENT
BEGIN:VEVENT
DTSTART;TZID=UTC:20280405T183000
DTEND;TZID=UTC:20280405T193000
DTSTAMP:20260421T140817
CREATED:20260311T231104Z
LAST-MODIFIED:20260311T231104Z
UID:10002369-1838572200-1838575800@pilgrimrestphx.org
SUMMARY:Bible Study
DESCRIPTION:
URL:https://pilgrimrestphx.org/event/bible-study-10/2028-04-05/
END:VEVENT
BEGIN:VEVENT
DTSTART;TZID=UTC:20280409T080000
DTEND;TZID=UTC:20280409T093000
DTSTAMP:20260421T140817
CREATED:20240501T175819Z
LAST-MODIFIED:20240501T175819Z
UID:10000444-1838880000-1838885400@pilgrimrestphx.org
SUMMARY:Early Morning Worship
DESCRIPTION:
URL:https://pilgrimrestphx.org/event/early-morning-worship/2028-04-09/
LOCATION:Pilgrim Rest Baptist Church\, 1401 E Jefferson St\, Phoenix\, AZ 85034\, United States
CATEGORIES:Worship
END:VEVENT
BEGIN:VEVENT
DTSTART;TZID=UTC:20280409T104500
DTEND;TZID=UTC:20280409T123000
DTSTAMP:20260421T140817
CREATED:20240501T175932Z
LAST-MODIFIED:20240501T175932Z
UID:10000701-1838889900-1838896200@pilgrimrestphx.org
SUMMARY:Mid-Morning Worship
DESCRIPTION:
URL:https://pilgrimrestphx.org/event/mid-morning-worship/2028-04-09/
LOCATION:Pilgrim Rest Baptist Church\, 1401 E Jefferson St\, Phoenix\, AZ 85034\, United States
CATEGORIES:Worship
END:VEVENT
BEGIN:VEVENT
DTSTART;TZID=UTC:20280412T183000
DTEND;TZID=UTC:20280412T193000
DTSTAMP:20260421T140817
CREATED:20260311T230937Z
LAST-MODIFIED:20260311T230937Z
UID:10002310-1839177000-1839180600@pilgrimrestphx.org
SUMMARY:Bible Study
DESCRIPTION:
URL:https://pilgrimrestphx.org/event/bible-study-9/2028-04-12/
END:VEVENT
BEGIN:VEVENT
DTSTART;TZID=UTC:20280416T080000
DTEND;TZID=UTC:20280416T093000
DTSTAMP:20260421T140817
CREATED:20240501T175819Z
LAST-MODIFIED:20240501T175819Z
UID:10000445-1839484800-1839490200@pilgrimrestphx.org
SUMMARY:Early Morning Worship
DESCRIPTION:
URL:https://pilgrimrestphx.org/event/early-morning-worship/2028-04-16/
LOCATION:Pilgrim Rest Baptist Church\, 1401 E Jefferson St\, Phoenix\, AZ 85034\, United States
CATEGORIES:Worship
END:VEVENT
BEGIN:VEVENT
DTSTART;TZID=UTC:20280416T104500
DTEND;TZID=UTC:20280416T123000
DTSTAMP:20260421T140817
CREATED:20240501T175932Z
LAST-MODIFIED:20240501T175932Z
UID:10000702-1839494700-1839501000@pilgrimrestphx.org
SUMMARY:Mid-Morning Worship
DESCRIPTION:
URL:https://pilgrimrestphx.org/event/mid-morning-worship/2028-04-16/
LOCATION:Pilgrim Rest Baptist Church\, 1401 E Jefferson St\, Phoenix\, AZ 85034\, United States
CATEGORIES:Worship
END:VEVENT
BEGIN:VEVENT
DTSTART;TZID=UTC:20280423T080000
DTEND;TZID=UTC:20280423T093000
DTSTAMP:20260421T140817
CREATED:20240501T175819Z
LAST-MODIFIED:20240501T175819Z
UID:10000446-1840089600-1840095000@pilgrimrestphx.org
SUMMARY:Early Morning Worship
DESCRIPTION:
URL:https://pilgrimrestphx.org/event/early-morning-worship/2028-04-23/
LOCATION:Pilgrim Rest Baptist Church\, 1401 E Jefferson St\, Phoenix\, AZ 85034\, United States
CATEGORIES:Worship
END:VEVENT
BEGIN:VEVENT
DTSTART;TZID=UTC:20280423T104500
DTEND;TZID=UTC:20280423T123000
DTSTAMP:20260421T140817
CREATED:20240501T175932Z
LAST-MODIFIED:20240501T175932Z
UID:10000703-1840099500-1840105800@pilgrimrestphx.org
SUMMARY:Mid-Morning Worship
DESCRIPTION:
URL:https://pilgrimrestphx.org/event/mid-morning-worship/2028-04-23/
LOCATION:Pilgrim Rest Baptist Church\, 1401 E Jefferson St\, Phoenix\, AZ 85034\, United States
CATEGORIES:Worship
END:VEVENT
BEGIN:VEVENT
DTSTART;TZID=UTC:20280430T080000
DTEND;TZID=UTC:20280430T093000
DTSTAMP:20260421T140817
CREATED:20240501T175819Z
LAST-MODIFIED:20240501T175819Z
UID:10000447-1840694400-1840699800@pilgrimrestphx.org
SUMMARY:Early Morning Worship
DESCRIPTION:
URL:https://pilgrimrestphx.org/event/early-morning-worship/2028-04-30/
LOCATION:Pilgrim Rest Baptist Church\, 1401 E Jefferson St\, Phoenix\, AZ 85034\, United States
CATEGORIES:Worship
END:VEVENT
BEGIN:VEVENT
DTSTART;TZID=UTC:20280430T104500
DTEND;TZID=UTC:20280430T123000
DTSTAMP:20260421T140817
CREATED:20240501T175932Z
LAST-MODIFIED:20240501T175932Z
UID:10000704-1840704300-1840710600@pilgrimrestphx.org
SUMMARY:Mid-Morning Worship
DESCRIPTION:
URL:https://pilgrimrestphx.org/event/mid-morning-worship/2028-04-30/
LOCATION:Pilgrim Rest Baptist Church\, 1401 E Jefferson St\, Phoenix\, AZ 85034\, United States
CATEGORIES:Worship
END:VEVENT
END:VCALENDAR