BEGIN:VCALENDAR
VERSION:2.0
PRODID:-//Pilgrim Rest Baptist Church - ECPv6.15.17.1//NONSGML v1.0//EN
CALSCALE:GREGORIAN
METHOD:PUBLISH
X-WR-CALNAME:Pilgrim Rest Baptist Church
X-ORIGINAL-URL:https://pilgrimrestphx.org
X-WR-CALDESC:Events for Pilgrim Rest Baptist Church
REFRESH-INTERVAL;VALUE=DURATION:PT1H
X-Robots-Tag:noindex
X-PUBLISHED-TTL:PT1H
BEGIN:VTIMEZONE
TZID:UTC
BEGIN:STANDARD
TZOFFSETFROM:+0000
TZOFFSETTO:+0000
TZNAME:UTC
DTSTART:20270101T000000
END:STANDARD
END:VTIMEZONE
BEGIN:VEVENT
DTSTART;TZID=UTC:20280702T080000
DTEND;TZID=UTC:20280702T093000
DTSTAMP:20260421T183857
CREATED:20240501T175819Z
LAST-MODIFIED:20240501T175819Z
UID:10000456-1846137600-1846143000@pilgrimrestphx.org
SUMMARY:Early Morning Worship
DESCRIPTION:
URL:https://pilgrimrestphx.org/event/early-morning-worship/2028-07-02/
LOCATION:Pilgrim Rest Baptist Church\, 1401 E Jefferson St\, Phoenix\, AZ 85034\, United States
CATEGORIES:Worship
END:VEVENT
BEGIN:VEVENT
DTSTART;TZID=UTC:20280702T104500
DTEND;TZID=UTC:20280702T123000
DTSTAMP:20260421T183857
CREATED:20240501T175932Z
LAST-MODIFIED:20240501T175932Z
UID:10000713-1846147500-1846153800@pilgrimrestphx.org
SUMMARY:Mid-Morning Worship
DESCRIPTION:
URL:https://pilgrimrestphx.org/event/mid-morning-worship/2028-07-02/
LOCATION:Pilgrim Rest Baptist Church\, 1401 E Jefferson St\, Phoenix\, AZ 85034\, United States
CATEGORIES:Worship
END:VEVENT
BEGIN:VEVENT
DTSTART;TZID=UTC:20280705T183000
DTEND;TZID=UTC:20280705T193000
DTSTAMP:20260421T183858
CREATED:20260311T231104Z
LAST-MODIFIED:20260311T231104Z
UID:10002372-1846434600-1846438200@pilgrimrestphx.org
SUMMARY:Bible Study
DESCRIPTION:
URL:https://pilgrimrestphx.org/event/bible-study-10/2028-07-05/
END:VEVENT
BEGIN:VEVENT
DTSTART;TZID=UTC:20280709T080000
DTEND;TZID=UTC:20280709T093000
DTSTAMP:20260421T183858
CREATED:20240501T175819Z
LAST-MODIFIED:20240501T175819Z
UID:10000457-1846742400-1846747800@pilgrimrestphx.org
SUMMARY:Early Morning Worship
DESCRIPTION:
URL:https://pilgrimrestphx.org/event/early-morning-worship/2028-07-09/
LOCATION:Pilgrim Rest Baptist Church\, 1401 E Jefferson St\, Phoenix\, AZ 85034\, United States
CATEGORIES:Worship
END:VEVENT
BEGIN:VEVENT
DTSTART;TZID=UTC:20280709T104500
DTEND;TZID=UTC:20280709T123000
DTSTAMP:20260421T183858
CREATED:20240501T175932Z
LAST-MODIFIED:20240501T175932Z
UID:10000714-1846752300-1846758600@pilgrimrestphx.org
SUMMARY:Mid-Morning Worship
DESCRIPTION:
URL:https://pilgrimrestphx.org/event/mid-morning-worship/2028-07-09/
LOCATION:Pilgrim Rest Baptist Church\, 1401 E Jefferson St\, Phoenix\, AZ 85034\, United States
CATEGORIES:Worship
END:VEVENT
BEGIN:VEVENT
DTSTART;TZID=UTC:20280712T183000
DTEND;TZID=UTC:20280712T193000
DTSTAMP:20260421T183858
CREATED:20260311T230937Z
LAST-MODIFIED:20260311T230937Z
UID:10002313-1847039400-1847043000@pilgrimrestphx.org
SUMMARY:Bible Study
DESCRIPTION:
URL:https://pilgrimrestphx.org/event/bible-study-9/2028-07-12/
END:VEVENT
BEGIN:VEVENT
DTSTART;TZID=UTC:20280716T080000
DTEND;TZID=UTC:20280716T093000
DTSTAMP:20260421T183858
CREATED:20240501T175819Z
LAST-MODIFIED:20240501T175819Z
UID:10000458-1847347200-1847352600@pilgrimrestphx.org
SUMMARY:Early Morning Worship
DESCRIPTION:
URL:https://pilgrimrestphx.org/event/early-morning-worship/2028-07-16/
LOCATION:Pilgrim Rest Baptist Church\, 1401 E Jefferson St\, Phoenix\, AZ 85034\, United States
CATEGORIES:Worship
END:VEVENT
BEGIN:VEVENT
DTSTART;TZID=UTC:20280716T104500
DTEND;TZID=UTC:20280716T123000
DTSTAMP:20260421T183858
CREATED:20240501T175932Z
LAST-MODIFIED:20240501T175932Z
UID:10000715-1847357100-1847363400@pilgrimrestphx.org
SUMMARY:Mid-Morning Worship
DESCRIPTION:
URL:https://pilgrimrestphx.org/event/mid-morning-worship/2028-07-16/
LOCATION:Pilgrim Rest Baptist Church\, 1401 E Jefferson St\, Phoenix\, AZ 85034\, United States
CATEGORIES:Worship
END:VEVENT
BEGIN:VEVENT
DTSTART;TZID=UTC:20280723T080000
DTEND;TZID=UTC:20280723T093000
DTSTAMP:20260421T183858
CREATED:20240501T175819Z
LAST-MODIFIED:20240501T175819Z
UID:10000459-1847952000-1847957400@pilgrimrestphx.org
SUMMARY:Early Morning Worship
DESCRIPTION:
URL:https://pilgrimrestphx.org/event/early-morning-worship/2028-07-23/
LOCATION:Pilgrim Rest Baptist Church\, 1401 E Jefferson St\, Phoenix\, AZ 85034\, United States
CATEGORIES:Worship
END:VEVENT
BEGIN:VEVENT
DTSTART;TZID=UTC:20280723T104500
DTEND;TZID=UTC:20280723T123000
DTSTAMP:20260421T183858
CREATED:20240501T175932Z
LAST-MODIFIED:20240501T175932Z
UID:10000716-1847961900-1847968200@pilgrimrestphx.org
SUMMARY:Mid-Morning Worship
DESCRIPTION:
URL:https://pilgrimrestphx.org/event/mid-morning-worship/2028-07-23/
LOCATION:Pilgrim Rest Baptist Church\, 1401 E Jefferson St\, Phoenix\, AZ 85034\, United States
CATEGORIES:Worship
END:VEVENT
BEGIN:VEVENT
DTSTART;TZID=UTC:20280730T080000
DTEND;TZID=UTC:20280730T093000
DTSTAMP:20260421T183858
CREATED:20240501T175819Z
LAST-MODIFIED:20240501T175819Z
UID:10000460-1848556800-1848562200@pilgrimrestphx.org
SUMMARY:Early Morning Worship
DESCRIPTION:
URL:https://pilgrimrestphx.org/event/early-morning-worship/2028-07-30/
LOCATION:Pilgrim Rest Baptist Church\, 1401 E Jefferson St\, Phoenix\, AZ 85034\, United States
CATEGORIES:Worship
END:VEVENT
BEGIN:VEVENT
DTSTART;TZID=UTC:20280730T104500
DTEND;TZID=UTC:20280730T123000
DTSTAMP:20260421T183858
CREATED:20240501T175932Z
LAST-MODIFIED:20240501T175932Z
UID:10000717-1848566700-1848573000@pilgrimrestphx.org
SUMMARY:Mid-Morning Worship
DESCRIPTION:
URL:https://pilgrimrestphx.org/event/mid-morning-worship/2028-07-30/
LOCATION:Pilgrim Rest Baptist Church\, 1401 E Jefferson St\, Phoenix\, AZ 85034\, United States
CATEGORIES:Worship
END:VEVENT
END:VCALENDAR