BEGIN:VCALENDAR
VERSION:2.0
PRODID:-//Pilgrim Rest Baptist Church - ECPv6.15.17.1//NONSGML v1.0//EN
CALSCALE:GREGORIAN
METHOD:PUBLISH
X-WR-CALNAME:Pilgrim Rest Baptist Church
X-ORIGINAL-URL:https://pilgrimrestphx.org
X-WR-CALDESC:Events for Pilgrim Rest Baptist Church
REFRESH-INTERVAL;VALUE=DURATION:PT1H
X-Robots-Tag:noindex
X-PUBLISHED-TTL:PT1H
BEGIN:VTIMEZONE
TZID:UTC
BEGIN:STANDARD
TZOFFSETFROM:+0000
TZOFFSETTO:+0000
TZNAME:UTC
DTSTART:20270101T000000
END:STANDARD
END:VTIMEZONE
BEGIN:VEVENT
DTSTART;TZID=UTC:20280802T183000
DTEND;TZID=UTC:20280802T193000
DTSTAMP:20260421T200509
CREATED:20260311T231104Z
LAST-MODIFIED:20260311T231104Z
UID:10002373-1848853800-1848857400@pilgrimrestphx.org
SUMMARY:Bible Study
DESCRIPTION:
URL:https://pilgrimrestphx.org/event/bible-study-10/2028-08-02/
END:VEVENT
BEGIN:VEVENT
DTSTART;TZID=UTC:20280806T080000
DTEND;TZID=UTC:20280806T093000
DTSTAMP:20260421T200509
CREATED:20240501T175819Z
LAST-MODIFIED:20240501T175819Z
UID:10000461-1849161600-1849167000@pilgrimrestphx.org
SUMMARY:Early Morning Worship
DESCRIPTION:
URL:https://pilgrimrestphx.org/event/early-morning-worship/2028-08-06/
LOCATION:Pilgrim Rest Baptist Church\, 1401 E Jefferson St\, Phoenix\, AZ 85034\, United States
CATEGORIES:Worship
END:VEVENT
BEGIN:VEVENT
DTSTART;TZID=UTC:20280806T104500
DTEND;TZID=UTC:20280806T123000
DTSTAMP:20260421T200509
CREATED:20240501T175932Z
LAST-MODIFIED:20240501T175932Z
UID:10000718-1849171500-1849177800@pilgrimrestphx.org
SUMMARY:Mid-Morning Worship
DESCRIPTION:
URL:https://pilgrimrestphx.org/event/mid-morning-worship/2028-08-06/
LOCATION:Pilgrim Rest Baptist Church\, 1401 E Jefferson St\, Phoenix\, AZ 85034\, United States
CATEGORIES:Worship
END:VEVENT
BEGIN:VEVENT
DTSTART;TZID=UTC:20280809T183000
DTEND;TZID=UTC:20280809T193000
DTSTAMP:20260421T200509
CREATED:20260311T230937Z
LAST-MODIFIED:20260311T230937Z
UID:10002314-1849458600-1849462200@pilgrimrestphx.org
SUMMARY:Bible Study
DESCRIPTION:
URL:https://pilgrimrestphx.org/event/bible-study-9/2028-08-09/
END:VEVENT
BEGIN:VEVENT
DTSTART;TZID=UTC:20280813T080000
DTEND;TZID=UTC:20280813T093000
DTSTAMP:20260421T200509
CREATED:20240501T175819Z
LAST-MODIFIED:20240501T175819Z
UID:10000462-1849766400-1849771800@pilgrimrestphx.org
SUMMARY:Early Morning Worship
DESCRIPTION:
URL:https://pilgrimrestphx.org/event/early-morning-worship/2028-08-13/
LOCATION:Pilgrim Rest Baptist Church\, 1401 E Jefferson St\, Phoenix\, AZ 85034\, United States
CATEGORIES:Worship
END:VEVENT
BEGIN:VEVENT
DTSTART;TZID=UTC:20280813T104500
DTEND;TZID=UTC:20280813T123000
DTSTAMP:20260421T200509
CREATED:20240501T175932Z
LAST-MODIFIED:20240501T175932Z
UID:10000719-1849776300-1849782600@pilgrimrestphx.org
SUMMARY:Mid-Morning Worship
DESCRIPTION:
URL:https://pilgrimrestphx.org/event/mid-morning-worship/2028-08-13/
LOCATION:Pilgrim Rest Baptist Church\, 1401 E Jefferson St\, Phoenix\, AZ 85034\, United States
CATEGORIES:Worship
END:VEVENT
BEGIN:VEVENT
DTSTART;TZID=UTC:20280820T080000
DTEND;TZID=UTC:20280820T093000
DTSTAMP:20260421T200509
CREATED:20240501T175819Z
LAST-MODIFIED:20240501T175819Z
UID:10000463-1850371200-1850376600@pilgrimrestphx.org
SUMMARY:Early Morning Worship
DESCRIPTION:
URL:https://pilgrimrestphx.org/event/early-morning-worship/2028-08-20/
LOCATION:Pilgrim Rest Baptist Church\, 1401 E Jefferson St\, Phoenix\, AZ 85034\, United States
CATEGORIES:Worship
END:VEVENT
BEGIN:VEVENT
DTSTART;TZID=UTC:20280820T104500
DTEND;TZID=UTC:20280820T123000
DTSTAMP:20260421T200509
CREATED:20240501T175932Z
LAST-MODIFIED:20240501T175932Z
UID:10000720-1850381100-1850387400@pilgrimrestphx.org
SUMMARY:Mid-Morning Worship
DESCRIPTION:
URL:https://pilgrimrestphx.org/event/mid-morning-worship/2028-08-20/
LOCATION:Pilgrim Rest Baptist Church\, 1401 E Jefferson St\, Phoenix\, AZ 85034\, United States
CATEGORIES:Worship
END:VEVENT
BEGIN:VEVENT
DTSTART;TZID=UTC:20280827T080000
DTEND;TZID=UTC:20280827T093000
DTSTAMP:20260421T200509
CREATED:20240501T175819Z
LAST-MODIFIED:20240501T175819Z
UID:10000464-1850976000-1850981400@pilgrimrestphx.org
SUMMARY:Early Morning Worship
DESCRIPTION:
URL:https://pilgrimrestphx.org/event/early-morning-worship/2028-08-27/
LOCATION:Pilgrim Rest Baptist Church\, 1401 E Jefferson St\, Phoenix\, AZ 85034\, United States
CATEGORIES:Worship
END:VEVENT
BEGIN:VEVENT
DTSTART;TZID=UTC:20280827T104500
DTEND;TZID=UTC:20280827T123000
DTSTAMP:20260421T200509
CREATED:20240501T175932Z
LAST-MODIFIED:20240501T175932Z
UID:10000721-1850985900-1850992200@pilgrimrestphx.org
SUMMARY:Mid-Morning Worship
DESCRIPTION:
URL:https://pilgrimrestphx.org/event/mid-morning-worship/2028-08-27/
LOCATION:Pilgrim Rest Baptist Church\, 1401 E Jefferson St\, Phoenix\, AZ 85034\, United States
CATEGORIES:Worship
END:VEVENT
END:VCALENDAR