BEGIN:VCALENDAR
VERSION:2.0
PRODID:-//Pilgrim Rest Baptist Church - ECPv6.15.17.1//NONSGML v1.0//EN
CALSCALE:GREGORIAN
METHOD:PUBLISH
X-ORIGINAL-URL:https://pilgrimrestphx.org
X-WR-CALDESC:Events for Pilgrim Rest Baptist Church
REFRESH-INTERVAL;VALUE=DURATION:PT1H
X-Robots-Tag:noindex
X-PUBLISHED-TTL:PT1H
BEGIN:VTIMEZONE
TZID:UTC
BEGIN:STANDARD
TZOFFSETFROM:+0000
TZOFFSETTO:+0000
TZNAME:UTC
DTSTART:20270101T000000
END:STANDARD
END:VTIMEZONE
BEGIN:VEVENT
DTSTART;TZID=UTC:20280903T080000
DTEND;TZID=UTC:20280903T093000
DTSTAMP:20260423T100045
CREATED:20240501T175819Z
LAST-MODIFIED:20240501T175819Z
UID:10000465-1851580800-1851586200@pilgrimrestphx.org
SUMMARY:Early Morning Worship
DESCRIPTION:
URL:https://pilgrimrestphx.org/event/early-morning-worship/2028-09-03/
LOCATION:Pilgrim Rest Baptist Church\, 1401 E Jefferson St\, Phoenix\, AZ 85034\, United States
CATEGORIES:Worship
END:VEVENT
BEGIN:VEVENT
DTSTART;TZID=UTC:20280903T104500
DTEND;TZID=UTC:20280903T123000
DTSTAMP:20260423T100045
CREATED:20240501T175932Z
LAST-MODIFIED:20240501T175932Z
UID:10000722-1851590700-1851597000@pilgrimrestphx.org
SUMMARY:Mid-Morning Worship
DESCRIPTION:
URL:https://pilgrimrestphx.org/event/mid-morning-worship/2028-09-03/
LOCATION:Pilgrim Rest Baptist Church\, 1401 E Jefferson St\, Phoenix\, AZ 85034\, United States
CATEGORIES:Worship
END:VEVENT
BEGIN:VEVENT
DTSTART;TZID=UTC:20280906T183000
DTEND;TZID=UTC:20280906T193000
DTSTAMP:20260423T100045
CREATED:20260311T231104Z
LAST-MODIFIED:20260311T231104Z
UID:10002374-1851877800-1851881400@pilgrimrestphx.org
SUMMARY:Bible Study
DESCRIPTION:
URL:https://pilgrimrestphx.org/event/bible-study-10/2028-09-06/
END:VEVENT
BEGIN:VEVENT
DTSTART;TZID=UTC:20280910T080000
DTEND;TZID=UTC:20280910T093000
DTSTAMP:20260423T100045
CREATED:20240501T175819Z
LAST-MODIFIED:20240501T175819Z
UID:10000466-1852185600-1852191000@pilgrimrestphx.org
SUMMARY:Early Morning Worship
DESCRIPTION:
URL:https://pilgrimrestphx.org/event/early-morning-worship/2028-09-10/
LOCATION:Pilgrim Rest Baptist Church\, 1401 E Jefferson St\, Phoenix\, AZ 85034\, United States
CATEGORIES:Worship
END:VEVENT
BEGIN:VEVENT
DTSTART;TZID=UTC:20280910T104500
DTEND;TZID=UTC:20280910T123000
DTSTAMP:20260423T100045
CREATED:20240501T175932Z
LAST-MODIFIED:20240501T175932Z
UID:10000723-1852195500-1852201800@pilgrimrestphx.org
SUMMARY:Mid-Morning Worship
DESCRIPTION:
URL:https://pilgrimrestphx.org/event/mid-morning-worship/2028-09-10/
LOCATION:Pilgrim Rest Baptist Church\, 1401 E Jefferson St\, Phoenix\, AZ 85034\, United States
CATEGORIES:Worship
END:VEVENT
BEGIN:VEVENT
DTSTART;TZID=UTC:20280913T183000
DTEND;TZID=UTC:20280913T193000
DTSTAMP:20260423T100045
CREATED:20260311T230937Z
LAST-MODIFIED:20260311T230937Z
UID:10002315-1852482600-1852486200@pilgrimrestphx.org
SUMMARY:Bible Study
DESCRIPTION:
URL:https://pilgrimrestphx.org/event/bible-study-9/2028-09-13/
END:VEVENT
BEGIN:VEVENT
DTSTART;TZID=UTC:20280917T080000
DTEND;TZID=UTC:20280917T093000
DTSTAMP:20260423T100045
CREATED:20240501T175819Z
LAST-MODIFIED:20240501T175819Z
UID:10000467-1852790400-1852795800@pilgrimrestphx.org
SUMMARY:Early Morning Worship
DESCRIPTION:
URL:https://pilgrimrestphx.org/event/early-morning-worship/2028-09-17/
LOCATION:Pilgrim Rest Baptist Church\, 1401 E Jefferson St\, Phoenix\, AZ 85034\, United States
CATEGORIES:Worship
END:VEVENT
BEGIN:VEVENT
DTSTART;TZID=UTC:20280917T104500
DTEND;TZID=UTC:20280917T123000
DTSTAMP:20260423T100045
CREATED:20240501T175932Z
LAST-MODIFIED:20240501T175932Z
UID:10000724-1852800300-1852806600@pilgrimrestphx.org
SUMMARY:Mid-Morning Worship
DESCRIPTION:
URL:https://pilgrimrestphx.org/event/mid-morning-worship/2028-09-17/
LOCATION:Pilgrim Rest Baptist Church\, 1401 E Jefferson St\, Phoenix\, AZ 85034\, United States
CATEGORIES:Worship
END:VEVENT
BEGIN:VEVENT
DTSTART;TZID=UTC:20280924T080000
DTEND;TZID=UTC:20280924T093000
DTSTAMP:20260423T100045
CREATED:20240501T175819Z
LAST-MODIFIED:20240501T175819Z
UID:10000468-1853395200-1853400600@pilgrimrestphx.org
SUMMARY:Early Morning Worship
DESCRIPTION:
URL:https://pilgrimrestphx.org/event/early-morning-worship/2028-09-24/
LOCATION:Pilgrim Rest Baptist Church\, 1401 E Jefferson St\, Phoenix\, AZ 85034\, United States
CATEGORIES:Worship
END:VEVENT
BEGIN:VEVENT
DTSTART;TZID=UTC:20280924T104500
DTEND;TZID=UTC:20280924T123000
DTSTAMP:20260423T100045
CREATED:20240501T175932Z
LAST-MODIFIED:20240501T175932Z
UID:10000725-1853405100-1853411400@pilgrimrestphx.org
SUMMARY:Mid-Morning Worship
DESCRIPTION:
URL:https://pilgrimrestphx.org/event/mid-morning-worship/2028-09-24/
LOCATION:Pilgrim Rest Baptist Church\, 1401 E Jefferson St\, Phoenix\, AZ 85034\, United States
CATEGORIES:Worship
END:VEVENT
END:VCALENDAR