BEGIN:VCALENDAR
VERSION:2.0
PRODID:-//Pilgrim Rest Baptist Church - ECPv6.15.17.1//NONSGML v1.0//EN
CALSCALE:GREGORIAN
METHOD:PUBLISH
X-ORIGINAL-URL:https://pilgrimrestphx.org
X-WR-CALDESC:Events for Pilgrim Rest Baptist Church
REFRESH-INTERVAL;VALUE=DURATION:PT1H
X-Robots-Tag:noindex
X-PUBLISHED-TTL:PT1H
BEGIN:VTIMEZONE
TZID:UTC
BEGIN:STANDARD
TZOFFSETFROM:+0000
TZOFFSETTO:+0000
TZNAME:UTC
DTSTART:20270101T000000
END:STANDARD
END:VTIMEZONE
BEGIN:VEVENT
DTSTART;TZID=UTC:20281001T080000
DTEND;TZID=UTC:20281001T093000
DTSTAMP:20260423T113952
CREATED:20240501T175819Z
LAST-MODIFIED:20240501T175819Z
UID:10000469-1854000000-1854005400@pilgrimrestphx.org
SUMMARY:Early Morning Worship
DESCRIPTION:
URL:https://pilgrimrestphx.org/event/early-morning-worship/2028-10-01/
LOCATION:Pilgrim Rest Baptist Church\, 1401 E Jefferson St\, Phoenix\, AZ 85034\, United States
CATEGORIES:Worship
END:VEVENT
BEGIN:VEVENT
DTSTART;TZID=UTC:20281001T104500
DTEND;TZID=UTC:20281001T123000
DTSTAMP:20260423T113952
CREATED:20240501T175932Z
LAST-MODIFIED:20240501T175932Z
UID:10000726-1854009900-1854016200@pilgrimrestphx.org
SUMMARY:Mid-Morning Worship
DESCRIPTION:
URL:https://pilgrimrestphx.org/event/mid-morning-worship/2028-10-01/
LOCATION:Pilgrim Rest Baptist Church\, 1401 E Jefferson St\, Phoenix\, AZ 85034\, United States
CATEGORIES:Worship
END:VEVENT
BEGIN:VEVENT
DTSTART;TZID=UTC:20281004T183000
DTEND;TZID=UTC:20281004T193000
DTSTAMP:20260423T113952
CREATED:20260311T231104Z
LAST-MODIFIED:20260311T231104Z
UID:10002375-1854297000-1854300600@pilgrimrestphx.org
SUMMARY:Bible Study
DESCRIPTION:
URL:https://pilgrimrestphx.org/event/bible-study-10/2028-10-04/
END:VEVENT
BEGIN:VEVENT
DTSTART;TZID=UTC:20281008T080000
DTEND;TZID=UTC:20281008T093000
DTSTAMP:20260423T113952
CREATED:20240501T175819Z
LAST-MODIFIED:20240501T175819Z
UID:10000470-1854604800-1854610200@pilgrimrestphx.org
SUMMARY:Early Morning Worship
DESCRIPTION:
URL:https://pilgrimrestphx.org/event/early-morning-worship/2028-10-08/
LOCATION:Pilgrim Rest Baptist Church\, 1401 E Jefferson St\, Phoenix\, AZ 85034\, United States
CATEGORIES:Worship
END:VEVENT
BEGIN:VEVENT
DTSTART;TZID=UTC:20281008T104500
DTEND;TZID=UTC:20281008T123000
DTSTAMP:20260423T113952
CREATED:20240501T175932Z
LAST-MODIFIED:20240501T175932Z
UID:10000727-1854614700-1854621000@pilgrimrestphx.org
SUMMARY:Mid-Morning Worship
DESCRIPTION:
URL:https://pilgrimrestphx.org/event/mid-morning-worship/2028-10-08/
LOCATION:Pilgrim Rest Baptist Church\, 1401 E Jefferson St\, Phoenix\, AZ 85034\, United States
CATEGORIES:Worship
END:VEVENT
BEGIN:VEVENT
DTSTART;TZID=UTC:20281011T183000
DTEND;TZID=UTC:20281011T193000
DTSTAMP:20260423T113952
CREATED:20260311T230937Z
LAST-MODIFIED:20260311T230937Z
UID:10002316-1854901800-1854905400@pilgrimrestphx.org
SUMMARY:Bible Study
DESCRIPTION:
URL:https://pilgrimrestphx.org/event/bible-study-9/2028-10-11/
END:VEVENT
BEGIN:VEVENT
DTSTART;TZID=UTC:20281015T080000
DTEND;TZID=UTC:20281015T093000
DTSTAMP:20260423T113952
CREATED:20240501T175819Z
LAST-MODIFIED:20240501T175819Z
UID:10000471-1855209600-1855215000@pilgrimrestphx.org
SUMMARY:Early Morning Worship
DESCRIPTION:
URL:https://pilgrimrestphx.org/event/early-morning-worship/2028-10-15/
LOCATION:Pilgrim Rest Baptist Church\, 1401 E Jefferson St\, Phoenix\, AZ 85034\, United States
CATEGORIES:Worship
END:VEVENT
BEGIN:VEVENT
DTSTART;TZID=UTC:20281015T104500
DTEND;TZID=UTC:20281015T123000
DTSTAMP:20260423T113952
CREATED:20240501T175932Z
LAST-MODIFIED:20240501T175932Z
UID:10000728-1855219500-1855225800@pilgrimrestphx.org
SUMMARY:Mid-Morning Worship
DESCRIPTION:
URL:https://pilgrimrestphx.org/event/mid-morning-worship/2028-10-15/
LOCATION:Pilgrim Rest Baptist Church\, 1401 E Jefferson St\, Phoenix\, AZ 85034\, United States
CATEGORIES:Worship
END:VEVENT
BEGIN:VEVENT
DTSTART;TZID=UTC:20281022T080000
DTEND;TZID=UTC:20281022T093000
DTSTAMP:20260423T113952
CREATED:20240501T175819Z
LAST-MODIFIED:20240501T175819Z
UID:10000472-1855814400-1855819800@pilgrimrestphx.org
SUMMARY:Early Morning Worship
DESCRIPTION:
URL:https://pilgrimrestphx.org/event/early-morning-worship/2028-10-22/
LOCATION:Pilgrim Rest Baptist Church\, 1401 E Jefferson St\, Phoenix\, AZ 85034\, United States
CATEGORIES:Worship
END:VEVENT
BEGIN:VEVENT
DTSTART;TZID=UTC:20281022T104500
DTEND;TZID=UTC:20281022T123000
DTSTAMP:20260423T113952
CREATED:20240501T175932Z
LAST-MODIFIED:20240501T175932Z
UID:10000729-1855824300-1855830600@pilgrimrestphx.org
SUMMARY:Mid-Morning Worship
DESCRIPTION:
URL:https://pilgrimrestphx.org/event/mid-morning-worship/2028-10-22/
LOCATION:Pilgrim Rest Baptist Church\, 1401 E Jefferson St\, Phoenix\, AZ 85034\, United States
CATEGORIES:Worship
END:VEVENT
BEGIN:VEVENT
DTSTART;TZID=UTC:20281029T080000
DTEND;TZID=UTC:20281029T093000
DTSTAMP:20260423T113952
CREATED:20240501T175819Z
LAST-MODIFIED:20240501T175819Z
UID:10000473-1856419200-1856424600@pilgrimrestphx.org
SUMMARY:Early Morning Worship
DESCRIPTION:
URL:https://pilgrimrestphx.org/event/early-morning-worship/2028-10-29/
LOCATION:Pilgrim Rest Baptist Church\, 1401 E Jefferson St\, Phoenix\, AZ 85034\, United States
CATEGORIES:Worship
END:VEVENT
BEGIN:VEVENT
DTSTART;TZID=UTC:20281029T104500
DTEND;TZID=UTC:20281029T123000
DTSTAMP:20260423T113952
CREATED:20240501T175932Z
LAST-MODIFIED:20240501T175932Z
UID:10000730-1856429100-1856435400@pilgrimrestphx.org
SUMMARY:Mid-Morning Worship
DESCRIPTION:
URL:https://pilgrimrestphx.org/event/mid-morning-worship/2028-10-29/
LOCATION:Pilgrim Rest Baptist Church\, 1401 E Jefferson St\, Phoenix\, AZ 85034\, United States
CATEGORIES:Worship
END:VEVENT
END:VCALENDAR