BEGIN:VCALENDAR
VERSION:2.0
PRODID:-//Pilgrim Rest Baptist Church - ECPv6.15.17.1//NONSGML v1.0//EN
CALSCALE:GREGORIAN
METHOD:PUBLISH
X-WR-CALNAME:Pilgrim Rest Baptist Church
X-ORIGINAL-URL:https://pilgrimrestphx.org
X-WR-CALDESC:Events for Pilgrim Rest Baptist Church
REFRESH-INTERVAL;VALUE=DURATION:PT1H
X-Robots-Tag:noindex
X-PUBLISHED-TTL:PT1H
BEGIN:VTIMEZONE
TZID:UTC
BEGIN:STANDARD
TZOFFSETFROM:+0000
TZOFFSETTO:+0000
TZNAME:UTC
DTSTART:20270101T000000
END:STANDARD
END:VTIMEZONE
BEGIN:VEVENT
DTSTART;TZID=UTC:20281101T183000
DTEND;TZID=UTC:20281101T193000
DTSTAMP:20260423T130350
CREATED:20260311T231104Z
LAST-MODIFIED:20260311T231104Z
UID:10002376-1856716200-1856719800@pilgrimrestphx.org
SUMMARY:Bible Study
DESCRIPTION:
URL:https://pilgrimrestphx.org/event/bible-study-10/2028-11-01/
END:VEVENT
BEGIN:VEVENT
DTSTART;TZID=UTC:20281105T080000
DTEND;TZID=UTC:20281105T093000
DTSTAMP:20260423T130350
CREATED:20240501T175819Z
LAST-MODIFIED:20240501T175819Z
UID:10000474-1857024000-1857029400@pilgrimrestphx.org
SUMMARY:Early Morning Worship
DESCRIPTION:
URL:https://pilgrimrestphx.org/event/early-morning-worship/2028-11-05/
LOCATION:Pilgrim Rest Baptist Church\, 1401 E Jefferson St\, Phoenix\, AZ 85034\, United States
CATEGORIES:Worship
END:VEVENT
BEGIN:VEVENT
DTSTART;TZID=UTC:20281105T104500
DTEND;TZID=UTC:20281105T123000
DTSTAMP:20260423T130350
CREATED:20240501T175932Z
LAST-MODIFIED:20240501T175932Z
UID:10000731-1857033900-1857040200@pilgrimrestphx.org
SUMMARY:Mid-Morning Worship
DESCRIPTION:
URL:https://pilgrimrestphx.org/event/mid-morning-worship/2028-11-05/
LOCATION:Pilgrim Rest Baptist Church\, 1401 E Jefferson St\, Phoenix\, AZ 85034\, United States
CATEGORIES:Worship
END:VEVENT
BEGIN:VEVENT
DTSTART;TZID=UTC:20281108T183000
DTEND;TZID=UTC:20281108T193000
DTSTAMP:20260423T130350
CREATED:20260311T230937Z
LAST-MODIFIED:20260311T230937Z
UID:10002317-1857321000-1857324600@pilgrimrestphx.org
SUMMARY:Bible Study
DESCRIPTION:
URL:https://pilgrimrestphx.org/event/bible-study-9/2028-11-08/
END:VEVENT
BEGIN:VEVENT
DTSTART;TZID=UTC:20281112T080000
DTEND;TZID=UTC:20281112T093000
DTSTAMP:20260423T130350
CREATED:20240501T175819Z
LAST-MODIFIED:20240501T175819Z
UID:10000475-1857628800-1857634200@pilgrimrestphx.org
SUMMARY:Early Morning Worship
DESCRIPTION:
URL:https://pilgrimrestphx.org/event/early-morning-worship/2028-11-12/
LOCATION:Pilgrim Rest Baptist Church\, 1401 E Jefferson St\, Phoenix\, AZ 85034\, United States
CATEGORIES:Worship
END:VEVENT
BEGIN:VEVENT
DTSTART;TZID=UTC:20281112T104500
DTEND;TZID=UTC:20281112T123000
DTSTAMP:20260423T130350
CREATED:20240501T175932Z
LAST-MODIFIED:20240501T175932Z
UID:10000732-1857638700-1857645000@pilgrimrestphx.org
SUMMARY:Mid-Morning Worship
DESCRIPTION:
URL:https://pilgrimrestphx.org/event/mid-morning-worship/2028-11-12/
LOCATION:Pilgrim Rest Baptist Church\, 1401 E Jefferson St\, Phoenix\, AZ 85034\, United States
CATEGORIES:Worship
END:VEVENT
BEGIN:VEVENT
DTSTART;TZID=UTC:20281119T080000
DTEND;TZID=UTC:20281119T093000
DTSTAMP:20260423T130350
CREATED:20240501T175819Z
LAST-MODIFIED:20240501T175819Z
UID:10000476-1858233600-1858239000@pilgrimrestphx.org
SUMMARY:Early Morning Worship
DESCRIPTION:
URL:https://pilgrimrestphx.org/event/early-morning-worship/2028-11-19/
LOCATION:Pilgrim Rest Baptist Church\, 1401 E Jefferson St\, Phoenix\, AZ 85034\, United States
CATEGORIES:Worship
END:VEVENT
BEGIN:VEVENT
DTSTART;TZID=UTC:20281119T104500
DTEND;TZID=UTC:20281119T123000
DTSTAMP:20260423T130350
CREATED:20240501T175932Z
LAST-MODIFIED:20240501T175932Z
UID:10000733-1858243500-1858249800@pilgrimrestphx.org
SUMMARY:Mid-Morning Worship
DESCRIPTION:
URL:https://pilgrimrestphx.org/event/mid-morning-worship/2028-11-19/
LOCATION:Pilgrim Rest Baptist Church\, 1401 E Jefferson St\, Phoenix\, AZ 85034\, United States
CATEGORIES:Worship
END:VEVENT
BEGIN:VEVENT
DTSTART;TZID=UTC:20281126T080000
DTEND;TZID=UTC:20281126T093000
DTSTAMP:20260423T130350
CREATED:20240501T175819Z
LAST-MODIFIED:20240501T175819Z
UID:10000477-1858838400-1858843800@pilgrimrestphx.org
SUMMARY:Early Morning Worship
DESCRIPTION:
URL:https://pilgrimrestphx.org/event/early-morning-worship/2028-11-26/
LOCATION:Pilgrim Rest Baptist Church\, 1401 E Jefferson St\, Phoenix\, AZ 85034\, United States
CATEGORIES:Worship
END:VEVENT
BEGIN:VEVENT
DTSTART;TZID=UTC:20281126T104500
DTEND;TZID=UTC:20281126T123000
DTSTAMP:20260423T130350
CREATED:20240501T175932Z
LAST-MODIFIED:20240501T175932Z
UID:10000734-1858848300-1858854600@pilgrimrestphx.org
SUMMARY:Mid-Morning Worship
DESCRIPTION:
URL:https://pilgrimrestphx.org/event/mid-morning-worship/2028-11-26/
LOCATION:Pilgrim Rest Baptist Church\, 1401 E Jefferson St\, Phoenix\, AZ 85034\, United States
CATEGORIES:Worship
END:VEVENT
END:VCALENDAR