BEGIN:VCALENDAR
VERSION:2.0
PRODID:-//Pilgrim Rest Baptist Church - ECPv6.15.17.1//NONSGML v1.0//EN
CALSCALE:GREGORIAN
METHOD:PUBLISH
X-WR-CALNAME:Pilgrim Rest Baptist Church
X-ORIGINAL-URL:https://pilgrimrestphx.org
X-WR-CALDESC:Events for Pilgrim Rest Baptist Church
REFRESH-INTERVAL;VALUE=DURATION:PT1H
X-Robots-Tag:noindex
X-PUBLISHED-TTL:PT1H
BEGIN:VTIMEZONE
TZID:UTC
BEGIN:STANDARD
TZOFFSETFROM:+0000
TZOFFSETTO:+0000
TZNAME:UTC
DTSTART:20280101T000000
END:STANDARD
END:VTIMEZONE
BEGIN:VEVENT
DTSTART;TZID=UTC:20290603T080000
DTEND;TZID=UTC:20290603T093000
DTSTAMP:20260423T225511
CREATED:20240501T175819Z
LAST-MODIFIED:20240501T175819Z
UID:10001709-1875168000-1875173400@pilgrimrestphx.org
SUMMARY:Early Morning Worship
DESCRIPTION:
URL:https://pilgrimrestphx.org/event/early-morning-worship/2029-06-03/
LOCATION:Pilgrim Rest Baptist Church\, 1401 E Jefferson St\, Phoenix\, AZ 85034\, United States
CATEGORIES:Worship
END:VEVENT
BEGIN:VEVENT
DTSTART;TZID=UTC:20290603T104500
DTEND;TZID=UTC:20290603T123000
DTSTAMP:20260423T225511
CREATED:20240501T175932Z
LAST-MODIFIED:20240501T175932Z
UID:10001757-1875177900-1875184200@pilgrimrestphx.org
SUMMARY:Mid-Morning Worship
DESCRIPTION:
URL:https://pilgrimrestphx.org/event/mid-morning-worship/2029-06-03/
LOCATION:Pilgrim Rest Baptist Church\, 1401 E Jefferson St\, Phoenix\, AZ 85034\, United States
CATEGORIES:Worship
END:VEVENT
BEGIN:VEVENT
DTSTART;TZID=UTC:20290606T183000
DTEND;TZID=UTC:20290606T193000
DTSTAMP:20260423T225511
CREATED:20260311T231104Z
LAST-MODIFIED:20260311T231104Z
UID:10002383-1875465000-1875468600@pilgrimrestphx.org
SUMMARY:Bible Study
DESCRIPTION:
URL:https://pilgrimrestphx.org/event/bible-study-10/2029-06-06/
END:VEVENT
BEGIN:VEVENT
DTSTART;TZID=UTC:20290610T080000
DTEND;TZID=UTC:20290610T093000
DTSTAMP:20260423T225511
CREATED:20240501T175819Z
LAST-MODIFIED:20240501T175819Z
UID:10001710-1875772800-1875778200@pilgrimrestphx.org
SUMMARY:Early Morning Worship
DESCRIPTION:
URL:https://pilgrimrestphx.org/event/early-morning-worship/2029-06-10/
LOCATION:Pilgrim Rest Baptist Church\, 1401 E Jefferson St\, Phoenix\, AZ 85034\, United States
CATEGORIES:Worship
END:VEVENT
BEGIN:VEVENT
DTSTART;TZID=UTC:20290610T104500
DTEND;TZID=UTC:20290610T123000
DTSTAMP:20260423T225511
CREATED:20240501T175932Z
LAST-MODIFIED:20240501T175932Z
UID:10001758-1875782700-1875789000@pilgrimrestphx.org
SUMMARY:Mid-Morning Worship
DESCRIPTION:
URL:https://pilgrimrestphx.org/event/mid-morning-worship/2029-06-10/
LOCATION:Pilgrim Rest Baptist Church\, 1401 E Jefferson St\, Phoenix\, AZ 85034\, United States
CATEGORIES:Worship
END:VEVENT
BEGIN:VEVENT
DTSTART;TZID=UTC:20290613T183000
DTEND;TZID=UTC:20290613T193000
DTSTAMP:20260423T225511
CREATED:20260311T230937Z
LAST-MODIFIED:20260311T230937Z
UID:10002324-1876069800-1876073400@pilgrimrestphx.org
SUMMARY:Bible Study
DESCRIPTION:
URL:https://pilgrimrestphx.org/event/bible-study-9/2029-06-13/
END:VEVENT
BEGIN:VEVENT
DTSTART;TZID=UTC:20290617T080000
DTEND;TZID=UTC:20290617T093000
DTSTAMP:20260423T225511
CREATED:20240501T175819Z
LAST-MODIFIED:20240501T175819Z
UID:10001711-1876377600-1876383000@pilgrimrestphx.org
SUMMARY:Early Morning Worship
DESCRIPTION:
URL:https://pilgrimrestphx.org/event/early-morning-worship/2029-06-17/
LOCATION:Pilgrim Rest Baptist Church\, 1401 E Jefferson St\, Phoenix\, AZ 85034\, United States
CATEGORIES:Worship
END:VEVENT
BEGIN:VEVENT
DTSTART;TZID=UTC:20290617T104500
DTEND;TZID=UTC:20290617T123000
DTSTAMP:20260423T225511
CREATED:20240501T175932Z
LAST-MODIFIED:20240501T175932Z
UID:10001759-1876387500-1876393800@pilgrimrestphx.org
SUMMARY:Mid-Morning Worship
DESCRIPTION:
URL:https://pilgrimrestphx.org/event/mid-morning-worship/2029-06-17/
LOCATION:Pilgrim Rest Baptist Church\, 1401 E Jefferson St\, Phoenix\, AZ 85034\, United States
CATEGORIES:Worship
END:VEVENT
BEGIN:VEVENT
DTSTART;TZID=UTC:20290624T080000
DTEND;TZID=UTC:20290624T093000
DTSTAMP:20260423T225511
CREATED:20240501T175819Z
LAST-MODIFIED:20240501T175819Z
UID:10001712-1876982400-1876987800@pilgrimrestphx.org
SUMMARY:Early Morning Worship
DESCRIPTION:
URL:https://pilgrimrestphx.org/event/early-morning-worship/2029-06-24/
LOCATION:Pilgrim Rest Baptist Church\, 1401 E Jefferson St\, Phoenix\, AZ 85034\, United States
CATEGORIES:Worship
END:VEVENT
BEGIN:VEVENT
DTSTART;TZID=UTC:20290624T104500
DTEND;TZID=UTC:20290624T123000
DTSTAMP:20260423T225511
CREATED:20240501T175932Z
LAST-MODIFIED:20240501T175932Z
UID:10001760-1876992300-1876998600@pilgrimrestphx.org
SUMMARY:Mid-Morning Worship
DESCRIPTION:
URL:https://pilgrimrestphx.org/event/mid-morning-worship/2029-06-24/
LOCATION:Pilgrim Rest Baptist Church\, 1401 E Jefferson St\, Phoenix\, AZ 85034\, United States
CATEGORIES:Worship
END:VEVENT
END:VCALENDAR