BEGIN:VCALENDAR
VERSION:2.0
PRODID:-//Pilgrim Rest Baptist Church - ECPv6.15.17.1//NONSGML v1.0//EN
CALSCALE:GREGORIAN
METHOD:PUBLISH
X-WR-CALNAME:Pilgrim Rest Baptist Church
X-ORIGINAL-URL:https://pilgrimrestphx.org
X-WR-CALDESC:Events for Pilgrim Rest Baptist Church
REFRESH-INTERVAL;VALUE=DURATION:PT1H
X-Robots-Tag:noindex
X-PUBLISHED-TTL:PT1H
BEGIN:VTIMEZONE
TZID:UTC
BEGIN:STANDARD
TZOFFSETFROM:+0000
TZOFFSETTO:+0000
TZNAME:UTC
DTSTART:20280101T000000
END:STANDARD
END:VTIMEZONE
BEGIN:VEVENT
DTSTART;TZID=UTC:20290701T080000
DTEND;TZID=UTC:20290701T093000
DTSTAMP:20260424T000054
CREATED:20240501T175819Z
LAST-MODIFIED:20240501T175819Z
UID:10001713-1877587200-1877592600@pilgrimrestphx.org
SUMMARY:Early Morning Worship
DESCRIPTION:
URL:https://pilgrimrestphx.org/event/early-morning-worship/2029-07-01/
LOCATION:Pilgrim Rest Baptist Church\, 1401 E Jefferson St\, Phoenix\, AZ 85034\, United States
CATEGORIES:Worship
END:VEVENT
BEGIN:VEVENT
DTSTART;TZID=UTC:20290701T104500
DTEND;TZID=UTC:20290701T123000
DTSTAMP:20260424T000054
CREATED:20240501T175932Z
LAST-MODIFIED:20240501T175932Z
UID:10001761-1877597100-1877603400@pilgrimrestphx.org
SUMMARY:Mid-Morning Worship
DESCRIPTION:
URL:https://pilgrimrestphx.org/event/mid-morning-worship/2029-07-01/
LOCATION:Pilgrim Rest Baptist Church\, 1401 E Jefferson St\, Phoenix\, AZ 85034\, United States
CATEGORIES:Worship
END:VEVENT
BEGIN:VEVENT
DTSTART;TZID=UTC:20290704T183000
DTEND;TZID=UTC:20290704T193000
DTSTAMP:20260424T000054
CREATED:20260311T231104Z
LAST-MODIFIED:20260311T231104Z
UID:10002384-1877884200-1877887800@pilgrimrestphx.org
SUMMARY:Bible Study
DESCRIPTION:
URL:https://pilgrimrestphx.org/event/bible-study-10/2029-07-04/
END:VEVENT
BEGIN:VEVENT
DTSTART;TZID=UTC:20290708T080000
DTEND;TZID=UTC:20290708T093000
DTSTAMP:20260424T000054
CREATED:20240501T175819Z
LAST-MODIFIED:20240501T175819Z
UID:10001714-1878192000-1878197400@pilgrimrestphx.org
SUMMARY:Early Morning Worship
DESCRIPTION:
URL:https://pilgrimrestphx.org/event/early-morning-worship/2029-07-08/
LOCATION:Pilgrim Rest Baptist Church\, 1401 E Jefferson St\, Phoenix\, AZ 85034\, United States
CATEGORIES:Worship
END:VEVENT
BEGIN:VEVENT
DTSTART;TZID=UTC:20290708T104500
DTEND;TZID=UTC:20290708T123000
DTSTAMP:20260424T000054
CREATED:20240501T175932Z
LAST-MODIFIED:20240501T175932Z
UID:10001762-1878201900-1878208200@pilgrimrestphx.org
SUMMARY:Mid-Morning Worship
DESCRIPTION:
URL:https://pilgrimrestphx.org/event/mid-morning-worship/2029-07-08/
LOCATION:Pilgrim Rest Baptist Church\, 1401 E Jefferson St\, Phoenix\, AZ 85034\, United States
CATEGORIES:Worship
END:VEVENT
BEGIN:VEVENT
DTSTART;TZID=UTC:20290711T183000
DTEND;TZID=UTC:20290711T193000
DTSTAMP:20260424T000054
CREATED:20260311T230937Z
LAST-MODIFIED:20260311T230937Z
UID:10002325-1878489000-1878492600@pilgrimrestphx.org
SUMMARY:Bible Study
DESCRIPTION:
URL:https://pilgrimrestphx.org/event/bible-study-9/2029-07-11/
END:VEVENT
BEGIN:VEVENT
DTSTART;TZID=UTC:20290715T080000
DTEND;TZID=UTC:20290715T093000
DTSTAMP:20260424T000054
CREATED:20240501T175819Z
LAST-MODIFIED:20240501T175819Z
UID:10001715-1878796800-1878802200@pilgrimrestphx.org
SUMMARY:Early Morning Worship
DESCRIPTION:
URL:https://pilgrimrestphx.org/event/early-morning-worship/2029-07-15/
LOCATION:Pilgrim Rest Baptist Church\, 1401 E Jefferson St\, Phoenix\, AZ 85034\, United States
CATEGORIES:Worship
END:VEVENT
BEGIN:VEVENT
DTSTART;TZID=UTC:20290715T104500
DTEND;TZID=UTC:20290715T123000
DTSTAMP:20260424T000054
CREATED:20240501T175932Z
LAST-MODIFIED:20240501T175932Z
UID:10001763-1878806700-1878813000@pilgrimrestphx.org
SUMMARY:Mid-Morning Worship
DESCRIPTION:
URL:https://pilgrimrestphx.org/event/mid-morning-worship/2029-07-15/
LOCATION:Pilgrim Rest Baptist Church\, 1401 E Jefferson St\, Phoenix\, AZ 85034\, United States
CATEGORIES:Worship
END:VEVENT
BEGIN:VEVENT
DTSTART;TZID=UTC:20290722T080000
DTEND;TZID=UTC:20290722T093000
DTSTAMP:20260424T000054
CREATED:20240501T175819Z
LAST-MODIFIED:20240501T175819Z
UID:10001716-1879401600-1879407000@pilgrimrestphx.org
SUMMARY:Early Morning Worship
DESCRIPTION:
URL:https://pilgrimrestphx.org/event/early-morning-worship/2029-07-22/
LOCATION:Pilgrim Rest Baptist Church\, 1401 E Jefferson St\, Phoenix\, AZ 85034\, United States
CATEGORIES:Worship
END:VEVENT
BEGIN:VEVENT
DTSTART;TZID=UTC:20290722T104500
DTEND;TZID=UTC:20290722T123000
DTSTAMP:20260424T000054
CREATED:20240501T175932Z
LAST-MODIFIED:20240501T175932Z
UID:10001764-1879411500-1879417800@pilgrimrestphx.org
SUMMARY:Mid-Morning Worship
DESCRIPTION:
URL:https://pilgrimrestphx.org/event/mid-morning-worship/2029-07-22/
LOCATION:Pilgrim Rest Baptist Church\, 1401 E Jefferson St\, Phoenix\, AZ 85034\, United States
CATEGORIES:Worship
END:VEVENT
BEGIN:VEVENT
DTSTART;TZID=UTC:20290729T080000
DTEND;TZID=UTC:20290729T093000
DTSTAMP:20260424T000054
CREATED:20240501T175819Z
LAST-MODIFIED:20240501T175819Z
UID:10001717-1880006400-1880011800@pilgrimrestphx.org
SUMMARY:Early Morning Worship
DESCRIPTION:
URL:https://pilgrimrestphx.org/event/early-morning-worship/2029-07-29/
LOCATION:Pilgrim Rest Baptist Church\, 1401 E Jefferson St\, Phoenix\, AZ 85034\, United States
CATEGORIES:Worship
END:VEVENT
BEGIN:VEVENT
DTSTART;TZID=UTC:20290729T104500
DTEND;TZID=UTC:20290729T123000
DTSTAMP:20260424T000054
CREATED:20240501T175932Z
LAST-MODIFIED:20240501T175932Z
UID:10001765-1880016300-1880022600@pilgrimrestphx.org
SUMMARY:Mid-Morning Worship
DESCRIPTION:
URL:https://pilgrimrestphx.org/event/mid-morning-worship/2029-07-29/
LOCATION:Pilgrim Rest Baptist Church\, 1401 E Jefferson St\, Phoenix\, AZ 85034\, United States
CATEGORIES:Worship
END:VEVENT
END:VCALENDAR