BEGIN:VCALENDAR
VERSION:2.0
PRODID:-//Pilgrim Rest Baptist Church - ECPv6.15.17.1//NONSGML v1.0//EN
CALSCALE:GREGORIAN
METHOD:PUBLISH
X-WR-CALNAME:Pilgrim Rest Baptist Church
X-ORIGINAL-URL:https://pilgrimrestphx.org
X-WR-CALDESC:Events for Pilgrim Rest Baptist Church
REFRESH-INTERVAL;VALUE=DURATION:PT1H
X-Robots-Tag:noindex
X-PUBLISHED-TTL:PT1H
BEGIN:VTIMEZONE
TZID:UTC
BEGIN:STANDARD
TZOFFSETFROM:+0000
TZOFFSETTO:+0000
TZNAME:UTC
DTSTART:20280101T000000
END:STANDARD
END:VTIMEZONE
BEGIN:VEVENT
DTSTART;TZID=UTC:20290801T183000
DTEND;TZID=UTC:20290801T193000
DTSTAMP:20260424T011448
CREATED:20260311T231104Z
LAST-MODIFIED:20260311T231104Z
UID:10002385-1880303400-1880307000@pilgrimrestphx.org
SUMMARY:Bible Study
DESCRIPTION:
URL:https://pilgrimrestphx.org/event/bible-study-10/2029-08-01/
END:VEVENT
BEGIN:VEVENT
DTSTART;TZID=UTC:20290805T080000
DTEND;TZID=UTC:20290805T093000
DTSTAMP:20260424T011448
CREATED:20240501T175819Z
LAST-MODIFIED:20240501T175819Z
UID:10001718-1880611200-1880616600@pilgrimrestphx.org
SUMMARY:Early Morning Worship
DESCRIPTION:
URL:https://pilgrimrestphx.org/event/early-morning-worship/2029-08-05/
LOCATION:Pilgrim Rest Baptist Church\, 1401 E Jefferson St\, Phoenix\, AZ 85034\, United States
CATEGORIES:Worship
END:VEVENT
BEGIN:VEVENT
DTSTART;TZID=UTC:20290805T104500
DTEND;TZID=UTC:20290805T123000
DTSTAMP:20260424T011448
CREATED:20240501T175932Z
LAST-MODIFIED:20240501T175932Z
UID:10001766-1880621100-1880627400@pilgrimrestphx.org
SUMMARY:Mid-Morning Worship
DESCRIPTION:
URL:https://pilgrimrestphx.org/event/mid-morning-worship/2029-08-05/
LOCATION:Pilgrim Rest Baptist Church\, 1401 E Jefferson St\, Phoenix\, AZ 85034\, United States
CATEGORIES:Worship
END:VEVENT
BEGIN:VEVENT
DTSTART;TZID=UTC:20290808T183000
DTEND;TZID=UTC:20290808T193000
DTSTAMP:20260424T011448
CREATED:20260311T230937Z
LAST-MODIFIED:20260311T230937Z
UID:10002326-1880908200-1880911800@pilgrimrestphx.org
SUMMARY:Bible Study
DESCRIPTION:
URL:https://pilgrimrestphx.org/event/bible-study-9/2029-08-08/
END:VEVENT
BEGIN:VEVENT
DTSTART;TZID=UTC:20290812T080000
DTEND;TZID=UTC:20290812T093000
DTSTAMP:20260424T011448
CREATED:20240501T175819Z
LAST-MODIFIED:20240501T175819Z
UID:10001719-1881216000-1881221400@pilgrimrestphx.org
SUMMARY:Early Morning Worship
DESCRIPTION:
URL:https://pilgrimrestphx.org/event/early-morning-worship/2029-08-12/
LOCATION:Pilgrim Rest Baptist Church\, 1401 E Jefferson St\, Phoenix\, AZ 85034\, United States
CATEGORIES:Worship
END:VEVENT
BEGIN:VEVENT
DTSTART;TZID=UTC:20290812T104500
DTEND;TZID=UTC:20290812T123000
DTSTAMP:20260424T011448
CREATED:20240501T175932Z
LAST-MODIFIED:20240501T175932Z
UID:10001767-1881225900-1881232200@pilgrimrestphx.org
SUMMARY:Mid-Morning Worship
DESCRIPTION:
URL:https://pilgrimrestphx.org/event/mid-morning-worship/2029-08-12/
LOCATION:Pilgrim Rest Baptist Church\, 1401 E Jefferson St\, Phoenix\, AZ 85034\, United States
CATEGORIES:Worship
END:VEVENT
BEGIN:VEVENT
DTSTART;TZID=UTC:20290819T080000
DTEND;TZID=UTC:20290819T093000
DTSTAMP:20260424T011448
CREATED:20240501T175819Z
LAST-MODIFIED:20240501T175819Z
UID:10001720-1881820800-1881826200@pilgrimrestphx.org
SUMMARY:Early Morning Worship
DESCRIPTION:
URL:https://pilgrimrestphx.org/event/early-morning-worship/2029-08-19/
LOCATION:Pilgrim Rest Baptist Church\, 1401 E Jefferson St\, Phoenix\, AZ 85034\, United States
CATEGORIES:Worship
END:VEVENT
BEGIN:VEVENT
DTSTART;TZID=UTC:20290819T104500
DTEND;TZID=UTC:20290819T123000
DTSTAMP:20260424T011448
CREATED:20240501T175932Z
LAST-MODIFIED:20240501T175932Z
UID:10001768-1881830700-1881837000@pilgrimrestphx.org
SUMMARY:Mid-Morning Worship
DESCRIPTION:
URL:https://pilgrimrestphx.org/event/mid-morning-worship/2029-08-19/
LOCATION:Pilgrim Rest Baptist Church\, 1401 E Jefferson St\, Phoenix\, AZ 85034\, United States
CATEGORIES:Worship
END:VEVENT
BEGIN:VEVENT
DTSTART;TZID=UTC:20290826T080000
DTEND;TZID=UTC:20290826T093000
DTSTAMP:20260424T011448
CREATED:20240501T175819Z
LAST-MODIFIED:20240501T175819Z
UID:10001721-1882425600-1882431000@pilgrimrestphx.org
SUMMARY:Early Morning Worship
DESCRIPTION:
URL:https://pilgrimrestphx.org/event/early-morning-worship/2029-08-26/
LOCATION:Pilgrim Rest Baptist Church\, 1401 E Jefferson St\, Phoenix\, AZ 85034\, United States
CATEGORIES:Worship
END:VEVENT
BEGIN:VEVENT
DTSTART;TZID=UTC:20290826T104500
DTEND;TZID=UTC:20290826T123000
DTSTAMP:20260424T011448
CREATED:20240501T175932Z
LAST-MODIFIED:20240501T175932Z
UID:10001769-1882435500-1882441800@pilgrimrestphx.org
SUMMARY:Mid-Morning Worship
DESCRIPTION:
URL:https://pilgrimrestphx.org/event/mid-morning-worship/2029-08-26/
LOCATION:Pilgrim Rest Baptist Church\, 1401 E Jefferson St\, Phoenix\, AZ 85034\, United States
CATEGORIES:Worship
END:VEVENT
END:VCALENDAR