BEGIN:VCALENDAR
VERSION:2.0
PRODID:-//Pilgrim Rest Baptist Church - ECPv6.15.17.1//NONSGML v1.0//EN
CALSCALE:GREGORIAN
METHOD:PUBLISH
X-WR-CALNAME:Pilgrim Rest Baptist Church
X-ORIGINAL-URL:https://pilgrimrestphx.org
X-WR-CALDESC:Events for Pilgrim Rest Baptist Church
REFRESH-INTERVAL;VALUE=DURATION:PT1H
X-Robots-Tag:noindex
X-PUBLISHED-TTL:PT1H
BEGIN:VTIMEZONE
TZID:UTC
BEGIN:STANDARD
TZOFFSETFROM:+0000
TZOFFSETTO:+0000
TZNAME:UTC
DTSTART:20280101T000000
END:STANDARD
END:VTIMEZONE
BEGIN:VEVENT
DTSTART;TZID=UTC:20290902T080000
DTEND;TZID=UTC:20290902T093000
DTSTAMP:20260424T022821
CREATED:20240501T175819Z
LAST-MODIFIED:20240501T175819Z
UID:10001722-1883030400-1883035800@pilgrimrestphx.org
SUMMARY:Early Morning Worship
DESCRIPTION:
URL:https://pilgrimrestphx.org/event/early-morning-worship/2029-09-02/
LOCATION:Pilgrim Rest Baptist Church\, 1401 E Jefferson St\, Phoenix\, AZ 85034\, United States
CATEGORIES:Worship
END:VEVENT
BEGIN:VEVENT
DTSTART;TZID=UTC:20290902T104500
DTEND;TZID=UTC:20290902T123000
DTSTAMP:20260424T022821
CREATED:20240501T175932Z
LAST-MODIFIED:20240501T175932Z
UID:10001770-1883040300-1883046600@pilgrimrestphx.org
SUMMARY:Mid-Morning Worship
DESCRIPTION:
URL:https://pilgrimrestphx.org/event/mid-morning-worship/2029-09-02/
LOCATION:Pilgrim Rest Baptist Church\, 1401 E Jefferson St\, Phoenix\, AZ 85034\, United States
CATEGORIES:Worship
END:VEVENT
BEGIN:VEVENT
DTSTART;TZID=UTC:20290905T183000
DTEND;TZID=UTC:20290905T193000
DTSTAMP:20260424T022821
CREATED:20260311T231104Z
LAST-MODIFIED:20260311T231104Z
UID:10002386-1883327400-1883331000@pilgrimrestphx.org
SUMMARY:Bible Study
DESCRIPTION:
URL:https://pilgrimrestphx.org/event/bible-study-10/2029-09-05/
END:VEVENT
BEGIN:VEVENT
DTSTART;TZID=UTC:20290909T080000
DTEND;TZID=UTC:20290909T093000
DTSTAMP:20260424T022821
CREATED:20240501T175819Z
LAST-MODIFIED:20240501T175819Z
UID:10001723-1883635200-1883640600@pilgrimrestphx.org
SUMMARY:Early Morning Worship
DESCRIPTION:
URL:https://pilgrimrestphx.org/event/early-morning-worship/2029-09-09/
LOCATION:Pilgrim Rest Baptist Church\, 1401 E Jefferson St\, Phoenix\, AZ 85034\, United States
CATEGORIES:Worship
END:VEVENT
BEGIN:VEVENT
DTSTART;TZID=UTC:20290909T104500
DTEND;TZID=UTC:20290909T123000
DTSTAMP:20260424T022821
CREATED:20240501T175932Z
LAST-MODIFIED:20240501T175932Z
UID:10001771-1883645100-1883651400@pilgrimrestphx.org
SUMMARY:Mid-Morning Worship
DESCRIPTION:
URL:https://pilgrimrestphx.org/event/mid-morning-worship/2029-09-09/
LOCATION:Pilgrim Rest Baptist Church\, 1401 E Jefferson St\, Phoenix\, AZ 85034\, United States
CATEGORIES:Worship
END:VEVENT
BEGIN:VEVENT
DTSTART;TZID=UTC:20290912T183000
DTEND;TZID=UTC:20290912T193000
DTSTAMP:20260424T022821
CREATED:20260311T230937Z
LAST-MODIFIED:20260311T230937Z
UID:10002327-1883932200-1883935800@pilgrimrestphx.org
SUMMARY:Bible Study
DESCRIPTION:
URL:https://pilgrimrestphx.org/event/bible-study-9/2029-09-12/
END:VEVENT
BEGIN:VEVENT
DTSTART;TZID=UTC:20290916T080000
DTEND;TZID=UTC:20290916T093000
DTSTAMP:20260424T022821
CREATED:20240501T175819Z
LAST-MODIFIED:20240501T175819Z
UID:10001724-1884240000-1884245400@pilgrimrestphx.org
SUMMARY:Early Morning Worship
DESCRIPTION:
URL:https://pilgrimrestphx.org/event/early-morning-worship/2029-09-16/
LOCATION:Pilgrim Rest Baptist Church\, 1401 E Jefferson St\, Phoenix\, AZ 85034\, United States
CATEGORIES:Worship
END:VEVENT
BEGIN:VEVENT
DTSTART;TZID=UTC:20290916T104500
DTEND;TZID=UTC:20290916T123000
DTSTAMP:20260424T022821
CREATED:20240501T175932Z
LAST-MODIFIED:20240501T175932Z
UID:10001772-1884249900-1884256200@pilgrimrestphx.org
SUMMARY:Mid-Morning Worship
DESCRIPTION:
URL:https://pilgrimrestphx.org/event/mid-morning-worship/2029-09-16/
LOCATION:Pilgrim Rest Baptist Church\, 1401 E Jefferson St\, Phoenix\, AZ 85034\, United States
CATEGORIES:Worship
END:VEVENT
BEGIN:VEVENT
DTSTART;TZID=UTC:20290923T080000
DTEND;TZID=UTC:20290923T093000
DTSTAMP:20260424T022821
CREATED:20240501T175819Z
LAST-MODIFIED:20240501T175819Z
UID:10001725-1884844800-1884850200@pilgrimrestphx.org
SUMMARY:Early Morning Worship
DESCRIPTION:
URL:https://pilgrimrestphx.org/event/early-morning-worship/2029-09-23/
LOCATION:Pilgrim Rest Baptist Church\, 1401 E Jefferson St\, Phoenix\, AZ 85034\, United States
CATEGORIES:Worship
END:VEVENT
BEGIN:VEVENT
DTSTART;TZID=UTC:20290923T104500
DTEND;TZID=UTC:20290923T123000
DTSTAMP:20260424T022821
CREATED:20240501T175932Z
LAST-MODIFIED:20240501T175932Z
UID:10001773-1884854700-1884861000@pilgrimrestphx.org
SUMMARY:Mid-Morning Worship
DESCRIPTION:
URL:https://pilgrimrestphx.org/event/mid-morning-worship/2029-09-23/
LOCATION:Pilgrim Rest Baptist Church\, 1401 E Jefferson St\, Phoenix\, AZ 85034\, United States
CATEGORIES:Worship
END:VEVENT
BEGIN:VEVENT
DTSTART;TZID=UTC:20290930T080000
DTEND;TZID=UTC:20290930T093000
DTSTAMP:20260424T022821
CREATED:20240501T175819Z
LAST-MODIFIED:20240501T175819Z
UID:10001726-1885449600-1885455000@pilgrimrestphx.org
SUMMARY:Early Morning Worship
DESCRIPTION:
URL:https://pilgrimrestphx.org/event/early-morning-worship/2029-09-30/
LOCATION:Pilgrim Rest Baptist Church\, 1401 E Jefferson St\, Phoenix\, AZ 85034\, United States
CATEGORIES:Worship
END:VEVENT
BEGIN:VEVENT
DTSTART;TZID=UTC:20290930T104500
DTEND;TZID=UTC:20290930T123000
DTSTAMP:20260424T022821
CREATED:20240501T175932Z
LAST-MODIFIED:20240501T175932Z
UID:10001774-1885459500-1885465800@pilgrimrestphx.org
SUMMARY:Mid-Morning Worship
DESCRIPTION:
URL:https://pilgrimrestphx.org/event/mid-morning-worship/2029-09-30/
LOCATION:Pilgrim Rest Baptist Church\, 1401 E Jefferson St\, Phoenix\, AZ 85034\, United States
CATEGORIES:Worship
END:VEVENT
END:VCALENDAR