BEGIN:VCALENDAR
VERSION:2.0
PRODID:-//Pilgrim Rest Baptist Church - ECPv6.15.17.1//NONSGML v1.0//EN
CALSCALE:GREGORIAN
METHOD:PUBLISH
X-WR-CALNAME:Pilgrim Rest Baptist Church
X-ORIGINAL-URL:https://pilgrimrestphx.org
X-WR-CALDESC:Events for Pilgrim Rest Baptist Church
REFRESH-INTERVAL;VALUE=DURATION:PT1H
X-Robots-Tag:noindex
X-PUBLISHED-TTL:PT1H
BEGIN:VTIMEZONE
TZID:UTC
BEGIN:STANDARD
TZOFFSETFROM:+0000
TZOFFSETTO:+0000
TZNAME:UTC
DTSTART:20280101T000000
END:STANDARD
END:VTIMEZONE
BEGIN:VEVENT
DTSTART;TZID=UTC:20291003T183000
DTEND;TZID=UTC:20291003T193000
DTSTAMP:20260424T040047
CREATED:20260311T231104Z
LAST-MODIFIED:20260311T231104Z
UID:10002387-1885746600-1885750200@pilgrimrestphx.org
SUMMARY:Bible Study
DESCRIPTION:
URL:https://pilgrimrestphx.org/event/bible-study-10/2029-10-03/
END:VEVENT
BEGIN:VEVENT
DTSTART;TZID=UTC:20291007T080000
DTEND;TZID=UTC:20291007T093000
DTSTAMP:20260424T040047
CREATED:20240501T175819Z
LAST-MODIFIED:20240501T175819Z
UID:10001727-1886054400-1886059800@pilgrimrestphx.org
SUMMARY:Early Morning Worship
DESCRIPTION:
URL:https://pilgrimrestphx.org/event/early-morning-worship/2029-10-07/
LOCATION:Pilgrim Rest Baptist Church\, 1401 E Jefferson St\, Phoenix\, AZ 85034\, United States
CATEGORIES:Worship
END:VEVENT
BEGIN:VEVENT
DTSTART;TZID=UTC:20291007T104500
DTEND;TZID=UTC:20291007T123000
DTSTAMP:20260424T040047
CREATED:20240501T175932Z
LAST-MODIFIED:20240501T175932Z
UID:10001775-1886064300-1886070600@pilgrimrestphx.org
SUMMARY:Mid-Morning Worship
DESCRIPTION:
URL:https://pilgrimrestphx.org/event/mid-morning-worship/2029-10-07/
LOCATION:Pilgrim Rest Baptist Church\, 1401 E Jefferson St\, Phoenix\, AZ 85034\, United States
CATEGORIES:Worship
END:VEVENT
BEGIN:VEVENT
DTSTART;TZID=UTC:20291010T183000
DTEND;TZID=UTC:20291010T193000
DTSTAMP:20260424T040047
CREATED:20260311T230937Z
LAST-MODIFIED:20260311T230937Z
UID:10002328-1886351400-1886355000@pilgrimrestphx.org
SUMMARY:Bible Study
DESCRIPTION:
URL:https://pilgrimrestphx.org/event/bible-study-9/2029-10-10/
END:VEVENT
BEGIN:VEVENT
DTSTART;TZID=UTC:20291014T080000
DTEND;TZID=UTC:20291014T093000
DTSTAMP:20260424T040047
CREATED:20240501T175819Z
LAST-MODIFIED:20240501T175819Z
UID:10001728-1886659200-1886664600@pilgrimrestphx.org
SUMMARY:Early Morning Worship
DESCRIPTION:
URL:https://pilgrimrestphx.org/event/early-morning-worship/2029-10-14/
LOCATION:Pilgrim Rest Baptist Church\, 1401 E Jefferson St\, Phoenix\, AZ 85034\, United States
CATEGORIES:Worship
END:VEVENT
BEGIN:VEVENT
DTSTART;TZID=UTC:20291014T104500
DTEND;TZID=UTC:20291014T123000
DTSTAMP:20260424T040047
CREATED:20240501T175932Z
LAST-MODIFIED:20240501T175932Z
UID:10001776-1886669100-1886675400@pilgrimrestphx.org
SUMMARY:Mid-Morning Worship
DESCRIPTION:
URL:https://pilgrimrestphx.org/event/mid-morning-worship/2029-10-14/
LOCATION:Pilgrim Rest Baptist Church\, 1401 E Jefferson St\, Phoenix\, AZ 85034\, United States
CATEGORIES:Worship
END:VEVENT
BEGIN:VEVENT
DTSTART;TZID=UTC:20291021T080000
DTEND;TZID=UTC:20291021T093000
DTSTAMP:20260424T040047
CREATED:20240501T175819Z
LAST-MODIFIED:20240501T175819Z
UID:10001729-1887264000-1887269400@pilgrimrestphx.org
SUMMARY:Early Morning Worship
DESCRIPTION:
URL:https://pilgrimrestphx.org/event/early-morning-worship/2029-10-21/
LOCATION:Pilgrim Rest Baptist Church\, 1401 E Jefferson St\, Phoenix\, AZ 85034\, United States
CATEGORIES:Worship
END:VEVENT
BEGIN:VEVENT
DTSTART;TZID=UTC:20291021T104500
DTEND;TZID=UTC:20291021T123000
DTSTAMP:20260424T040047
CREATED:20240501T175932Z
LAST-MODIFIED:20240501T175932Z
UID:10001777-1887273900-1887280200@pilgrimrestphx.org
SUMMARY:Mid-Morning Worship
DESCRIPTION:
URL:https://pilgrimrestphx.org/event/mid-morning-worship/2029-10-21/
LOCATION:Pilgrim Rest Baptist Church\, 1401 E Jefferson St\, Phoenix\, AZ 85034\, United States
CATEGORIES:Worship
END:VEVENT
BEGIN:VEVENT
DTSTART;TZID=UTC:20291028T080000
DTEND;TZID=UTC:20291028T093000
DTSTAMP:20260424T040047
CREATED:20240501T175819Z
LAST-MODIFIED:20240501T175819Z
UID:10001730-1887868800-1887874200@pilgrimrestphx.org
SUMMARY:Early Morning Worship
DESCRIPTION:
URL:https://pilgrimrestphx.org/event/early-morning-worship/2029-10-28/
LOCATION:Pilgrim Rest Baptist Church\, 1401 E Jefferson St\, Phoenix\, AZ 85034\, United States
CATEGORIES:Worship
END:VEVENT
BEGIN:VEVENT
DTSTART;TZID=UTC:20291028T104500
DTEND;TZID=UTC:20291028T123000
DTSTAMP:20260424T040047
CREATED:20240501T175932Z
LAST-MODIFIED:20240501T175932Z
UID:10001778-1887878700-1887885000@pilgrimrestphx.org
SUMMARY:Mid-Morning Worship
DESCRIPTION:
URL:https://pilgrimrestphx.org/event/mid-morning-worship/2029-10-28/
LOCATION:Pilgrim Rest Baptist Church\, 1401 E Jefferson St\, Phoenix\, AZ 85034\, United States
CATEGORIES:Worship
END:VEVENT
END:VCALENDAR