BEGIN:VCALENDAR
VERSION:2.0
PRODID:-//Pilgrim Rest Baptist Church - ECPv6.15.17.1//NONSGML v1.0//EN
CALSCALE:GREGORIAN
METHOD:PUBLISH
X-ORIGINAL-URL:https://pilgrimrestphx.org
X-WR-CALDESC:Events for Pilgrim Rest Baptist Church
REFRESH-INTERVAL;VALUE=DURATION:PT1H
X-Robots-Tag:noindex
X-PUBLISHED-TTL:PT1H
BEGIN:VTIMEZONE
TZID:UTC
BEGIN:STANDARD
TZOFFSETFROM:+0000
TZOFFSETTO:+0000
TZNAME:UTC
DTSTART:20280101T000000
END:STANDARD
END:VTIMEZONE
BEGIN:VEVENT
DTSTART;TZID=UTC:20291104T080000
DTEND;TZID=UTC:20291104T093000
DTSTAMP:20260424T053047
CREATED:20240501T175819Z
LAST-MODIFIED:20240501T175819Z
UID:10001731-1888473600-1888479000@pilgrimrestphx.org
SUMMARY:Early Morning Worship
DESCRIPTION:
URL:https://pilgrimrestphx.org/event/early-morning-worship/2029-11-04/
LOCATION:Pilgrim Rest Baptist Church\, 1401 E Jefferson St\, Phoenix\, AZ 85034\, United States
CATEGORIES:Worship
END:VEVENT
BEGIN:VEVENT
DTSTART;TZID=UTC:20291104T104500
DTEND;TZID=UTC:20291104T123000
DTSTAMP:20260424T053047
CREATED:20240501T175932Z
LAST-MODIFIED:20240501T175932Z
UID:10001779-1888483500-1888489800@pilgrimrestphx.org
SUMMARY:Mid-Morning Worship
DESCRIPTION:
URL:https://pilgrimrestphx.org/event/mid-morning-worship/2029-11-04/
LOCATION:Pilgrim Rest Baptist Church\, 1401 E Jefferson St\, Phoenix\, AZ 85034\, United States
CATEGORIES:Worship
END:VEVENT
BEGIN:VEVENT
DTSTART;TZID=UTC:20291107T183000
DTEND;TZID=UTC:20291107T193000
DTSTAMP:20260424T053047
CREATED:20260311T231104Z
LAST-MODIFIED:20260311T231104Z
UID:10002388-1888770600-1888774200@pilgrimrestphx.org
SUMMARY:Bible Study
DESCRIPTION:
URL:https://pilgrimrestphx.org/event/bible-study-10/2029-11-07/
END:VEVENT
BEGIN:VEVENT
DTSTART;TZID=UTC:20291111T080000
DTEND;TZID=UTC:20291111T093000
DTSTAMP:20260424T053047
CREATED:20240501T175819Z
LAST-MODIFIED:20240501T175819Z
UID:10001732-1889078400-1889083800@pilgrimrestphx.org
SUMMARY:Early Morning Worship
DESCRIPTION:
URL:https://pilgrimrestphx.org/event/early-morning-worship/2029-11-11/
LOCATION:Pilgrim Rest Baptist Church\, 1401 E Jefferson St\, Phoenix\, AZ 85034\, United States
CATEGORIES:Worship
END:VEVENT
BEGIN:VEVENT
DTSTART;TZID=UTC:20291111T104500
DTEND;TZID=UTC:20291111T123000
DTSTAMP:20260424T053047
CREATED:20240501T175932Z
LAST-MODIFIED:20240501T175932Z
UID:10001780-1889088300-1889094600@pilgrimrestphx.org
SUMMARY:Mid-Morning Worship
DESCRIPTION:
URL:https://pilgrimrestphx.org/event/mid-morning-worship/2029-11-11/
LOCATION:Pilgrim Rest Baptist Church\, 1401 E Jefferson St\, Phoenix\, AZ 85034\, United States
CATEGORIES:Worship
END:VEVENT
BEGIN:VEVENT
DTSTART;TZID=UTC:20291114T183000
DTEND;TZID=UTC:20291114T193000
DTSTAMP:20260424T053047
CREATED:20260311T230937Z
LAST-MODIFIED:20260311T230937Z
UID:10002329-1889375400-1889379000@pilgrimrestphx.org
SUMMARY:Bible Study
DESCRIPTION:
URL:https://pilgrimrestphx.org/event/bible-study-9/2029-11-14/
END:VEVENT
BEGIN:VEVENT
DTSTART;TZID=UTC:20291118T080000
DTEND;TZID=UTC:20291118T093000
DTSTAMP:20260424T053047
CREATED:20240501T175819Z
LAST-MODIFIED:20240501T175819Z
UID:10001733-1889683200-1889688600@pilgrimrestphx.org
SUMMARY:Early Morning Worship
DESCRIPTION:
URL:https://pilgrimrestphx.org/event/early-morning-worship/2029-11-18/
LOCATION:Pilgrim Rest Baptist Church\, 1401 E Jefferson St\, Phoenix\, AZ 85034\, United States
CATEGORIES:Worship
END:VEVENT
BEGIN:VEVENT
DTSTART;TZID=UTC:20291118T104500
DTEND;TZID=UTC:20291118T123000
DTSTAMP:20260424T053047
CREATED:20240501T175932Z
LAST-MODIFIED:20240501T175932Z
UID:10001781-1889693100-1889699400@pilgrimrestphx.org
SUMMARY:Mid-Morning Worship
DESCRIPTION:
URL:https://pilgrimrestphx.org/event/mid-morning-worship/2029-11-18/
LOCATION:Pilgrim Rest Baptist Church\, 1401 E Jefferson St\, Phoenix\, AZ 85034\, United States
CATEGORIES:Worship
END:VEVENT
BEGIN:VEVENT
DTSTART;TZID=UTC:20291125T080000
DTEND;TZID=UTC:20291125T093000
DTSTAMP:20260424T053047
CREATED:20240501T175819Z
LAST-MODIFIED:20240501T175819Z
UID:10001734-1890288000-1890293400@pilgrimrestphx.org
SUMMARY:Early Morning Worship
DESCRIPTION:
URL:https://pilgrimrestphx.org/event/early-morning-worship/2029-11-25/
LOCATION:Pilgrim Rest Baptist Church\, 1401 E Jefferson St\, Phoenix\, AZ 85034\, United States
CATEGORIES:Worship
END:VEVENT
BEGIN:VEVENT
DTSTART;TZID=UTC:20291125T104500
DTEND;TZID=UTC:20291125T123000
DTSTAMP:20260424T053047
CREATED:20240501T175932Z
LAST-MODIFIED:20240501T175932Z
UID:10001782-1890297900-1890304200@pilgrimrestphx.org
SUMMARY:Mid-Morning Worship
DESCRIPTION:
URL:https://pilgrimrestphx.org/event/mid-morning-worship/2029-11-25/
LOCATION:Pilgrim Rest Baptist Church\, 1401 E Jefferson St\, Phoenix\, AZ 85034\, United States
CATEGORIES:Worship
END:VEVENT
END:VCALENDAR