BEGIN:VCALENDAR
VERSION:2.0
PRODID:-//Pilgrim Rest Baptist Church - ECPv6.15.17.1//NONSGML v1.0//EN
CALSCALE:GREGORIAN
METHOD:PUBLISH
X-WR-CALNAME:Pilgrim Rest Baptist Church
X-ORIGINAL-URL:https://pilgrimrestphx.org
X-WR-CALDESC:Events for Pilgrim Rest Baptist Church
REFRESH-INTERVAL;VALUE=DURATION:PT1H
X-Robots-Tag:noindex
X-PUBLISHED-TTL:PT1H
BEGIN:VTIMEZONE
TZID:UTC
BEGIN:STANDARD
TZOFFSETFROM:+0000
TZOFFSETTO:+0000
TZNAME:UTC
DTSTART:20280101T000000
END:STANDARD
END:VTIMEZONE
BEGIN:VEVENT
DTSTART;TZID=UTC:20291202T080000
DTEND;TZID=UTC:20291202T093000
DTSTAMP:20260424T065701
CREATED:20240501T175819Z
LAST-MODIFIED:20240501T175819Z
UID:10001735-1890892800-1890898200@pilgrimrestphx.org
SUMMARY:Early Morning Worship
DESCRIPTION:
URL:https://pilgrimrestphx.org/event/early-morning-worship/2029-12-02/
LOCATION:Pilgrim Rest Baptist Church\, 1401 E Jefferson St\, Phoenix\, AZ 85034\, United States
CATEGORIES:Worship
END:VEVENT
BEGIN:VEVENT
DTSTART;TZID=UTC:20291202T104500
DTEND;TZID=UTC:20291202T123000
DTSTAMP:20260424T065701
CREATED:20240501T175932Z
LAST-MODIFIED:20240501T175932Z
UID:10001783-1890902700-1890909000@pilgrimrestphx.org
SUMMARY:Mid-Morning Worship
DESCRIPTION:
URL:https://pilgrimrestphx.org/event/mid-morning-worship/2029-12-02/
LOCATION:Pilgrim Rest Baptist Church\, 1401 E Jefferson St\, Phoenix\, AZ 85034\, United States
CATEGORIES:Worship
END:VEVENT
BEGIN:VEVENT
DTSTART;TZID=UTC:20291205T183000
DTEND;TZID=UTC:20291205T193000
DTSTAMP:20260424T065701
CREATED:20260311T231104Z
LAST-MODIFIED:20260311T231104Z
UID:10002389-1891189800-1891193400@pilgrimrestphx.org
SUMMARY:Bible Study
DESCRIPTION:
URL:https://pilgrimrestphx.org/event/bible-study-10/2029-12-05/
END:VEVENT
BEGIN:VEVENT
DTSTART;TZID=UTC:20291209T080000
DTEND;TZID=UTC:20291209T093000
DTSTAMP:20260424T065701
CREATED:20240501T175819Z
LAST-MODIFIED:20240501T175819Z
UID:10001736-1891497600-1891503000@pilgrimrestphx.org
SUMMARY:Early Morning Worship
DESCRIPTION:
URL:https://pilgrimrestphx.org/event/early-morning-worship/2029-12-09/
LOCATION:Pilgrim Rest Baptist Church\, 1401 E Jefferson St\, Phoenix\, AZ 85034\, United States
CATEGORIES:Worship
END:VEVENT
BEGIN:VEVENT
DTSTART;TZID=UTC:20291209T104500
DTEND;TZID=UTC:20291209T123000
DTSTAMP:20260424T065701
CREATED:20240501T175932Z
LAST-MODIFIED:20240501T175932Z
UID:10001784-1891507500-1891513800@pilgrimrestphx.org
SUMMARY:Mid-Morning Worship
DESCRIPTION:
URL:https://pilgrimrestphx.org/event/mid-morning-worship/2029-12-09/
LOCATION:Pilgrim Rest Baptist Church\, 1401 E Jefferson St\, Phoenix\, AZ 85034\, United States
CATEGORIES:Worship
END:VEVENT
BEGIN:VEVENT
DTSTART;TZID=UTC:20291212T183000
DTEND;TZID=UTC:20291212T193000
DTSTAMP:20260424T065701
CREATED:20260311T230937Z
LAST-MODIFIED:20260311T230937Z
UID:10002330-1891794600-1891798200@pilgrimrestphx.org
SUMMARY:Bible Study
DESCRIPTION:
URL:https://pilgrimrestphx.org/event/bible-study-9/2029-12-12/
END:VEVENT
BEGIN:VEVENT
DTSTART;TZID=UTC:20291216T080000
DTEND;TZID=UTC:20291216T093000
DTSTAMP:20260424T065701
CREATED:20240501T175819Z
LAST-MODIFIED:20240501T175819Z
UID:10001737-1892102400-1892107800@pilgrimrestphx.org
SUMMARY:Early Morning Worship
DESCRIPTION:
URL:https://pilgrimrestphx.org/event/early-morning-worship/2029-12-16/
LOCATION:Pilgrim Rest Baptist Church\, 1401 E Jefferson St\, Phoenix\, AZ 85034\, United States
CATEGORIES:Worship
END:VEVENT
BEGIN:VEVENT
DTSTART;TZID=UTC:20291216T104500
DTEND;TZID=UTC:20291216T123000
DTSTAMP:20260424T065701
CREATED:20240501T175932Z
LAST-MODIFIED:20240501T175932Z
UID:10001785-1892112300-1892118600@pilgrimrestphx.org
SUMMARY:Mid-Morning Worship
DESCRIPTION:
URL:https://pilgrimrestphx.org/event/mid-morning-worship/2029-12-16/
LOCATION:Pilgrim Rest Baptist Church\, 1401 E Jefferson St\, Phoenix\, AZ 85034\, United States
CATEGORIES:Worship
END:VEVENT
BEGIN:VEVENT
DTSTART;TZID=UTC:20291223T080000
DTEND;TZID=UTC:20291223T093000
DTSTAMP:20260424T065701
CREATED:20240501T175819Z
LAST-MODIFIED:20240501T175819Z
UID:10001738-1892707200-1892712600@pilgrimrestphx.org
SUMMARY:Early Morning Worship
DESCRIPTION:
URL:https://pilgrimrestphx.org/event/early-morning-worship/2029-12-23/
LOCATION:Pilgrim Rest Baptist Church\, 1401 E Jefferson St\, Phoenix\, AZ 85034\, United States
CATEGORIES:Worship
END:VEVENT
BEGIN:VEVENT
DTSTART;TZID=UTC:20291223T104500
DTEND;TZID=UTC:20291223T123000
DTSTAMP:20260424T065701
CREATED:20240501T175932Z
LAST-MODIFIED:20240501T175932Z
UID:10001786-1892717100-1892723400@pilgrimrestphx.org
SUMMARY:Mid-Morning Worship
DESCRIPTION:
URL:https://pilgrimrestphx.org/event/mid-morning-worship/2029-12-23/
LOCATION:Pilgrim Rest Baptist Church\, 1401 E Jefferson St\, Phoenix\, AZ 85034\, United States
CATEGORIES:Worship
END:VEVENT
BEGIN:VEVENT
DTSTART;TZID=UTC:20291230T080000
DTEND;TZID=UTC:20291230T093000
DTSTAMP:20260424T065701
CREATED:20240501T175819Z
LAST-MODIFIED:20240501T175819Z
UID:10001739-1893312000-1893317400@pilgrimrestphx.org
SUMMARY:Early Morning Worship
DESCRIPTION:
URL:https://pilgrimrestphx.org/event/early-morning-worship/2029-12-30/
LOCATION:Pilgrim Rest Baptist Church\, 1401 E Jefferson St\, Phoenix\, AZ 85034\, United States
CATEGORIES:Worship
END:VEVENT
BEGIN:VEVENT
DTSTART;TZID=UTC:20291230T104500
DTEND;TZID=UTC:20291230T123000
DTSTAMP:20260424T065701
CREATED:20240501T175932Z
LAST-MODIFIED:20240501T175932Z
UID:10001787-1893321900-1893328200@pilgrimrestphx.org
SUMMARY:Mid-Morning Worship
DESCRIPTION:
URL:https://pilgrimrestphx.org/event/mid-morning-worship/2029-12-30/
LOCATION:Pilgrim Rest Baptist Church\, 1401 E Jefferson St\, Phoenix\, AZ 85034\, United States
CATEGORIES:Worship
END:VEVENT
END:VCALENDAR