BEGIN:VCALENDAR
VERSION:2.0
PRODID:-//Pilgrim Rest Baptist Church - ECPv6.15.17.1//NONSGML v1.0//EN
CALSCALE:GREGORIAN
METHOD:PUBLISH
X-ORIGINAL-URL:https://pilgrimrestphx.org
X-WR-CALDESC:Events for Pilgrim Rest Baptist Church
REFRESH-INTERVAL;VALUE=DURATION:PT1H
X-Robots-Tag:noindex
X-PUBLISHED-TTL:PT1H
BEGIN:VTIMEZONE
TZID:UTC
BEGIN:STANDARD
TZOFFSETFROM:+0000
TZOFFSETTO:+0000
TZNAME:UTC
DTSTART:20290101T000000
END:STANDARD
END:VTIMEZONE
BEGIN:VEVENT
DTSTART;TZID=UTC:20300102T183000
DTEND;TZID=UTC:20300102T193000
DTSTAMP:20260424T081604
CREATED:20260311T231104Z
LAST-MODIFIED:20260311T231104Z
UID:10002390-1893609000-1893612600@pilgrimrestphx.org
SUMMARY:Bible Study
DESCRIPTION:
URL:https://pilgrimrestphx.org/event/bible-study-10/2030-01-02/
END:VEVENT
BEGIN:VEVENT
DTSTART;TZID=UTC:20300106T080000
DTEND;TZID=UTC:20300106T093000
DTSTAMP:20260424T081604
CREATED:20240501T175819Z
LAST-MODIFIED:20240501T175819Z
UID:10001740-1893916800-1893922200@pilgrimrestphx.org
SUMMARY:Early Morning Worship
DESCRIPTION:
URL:https://pilgrimrestphx.org/event/early-morning-worship/2030-01-06/
LOCATION:Pilgrim Rest Baptist Church\, 1401 E Jefferson St\, Phoenix\, AZ 85034\, United States
CATEGORIES:Worship
END:VEVENT
BEGIN:VEVENT
DTSTART;TZID=UTC:20300106T104500
DTEND;TZID=UTC:20300106T123000
DTSTAMP:20260424T081604
CREATED:20240501T175932Z
LAST-MODIFIED:20240501T175932Z
UID:10001788-1893926700-1893933000@pilgrimrestphx.org
SUMMARY:Mid-Morning Worship
DESCRIPTION:
URL:https://pilgrimrestphx.org/event/mid-morning-worship/2030-01-06/
LOCATION:Pilgrim Rest Baptist Church\, 1401 E Jefferson St\, Phoenix\, AZ 85034\, United States
CATEGORIES:Worship
END:VEVENT
BEGIN:VEVENT
DTSTART;TZID=UTC:20300109T183000
DTEND;TZID=UTC:20300109T193000
DTSTAMP:20260424T081604
CREATED:20260311T230937Z
LAST-MODIFIED:20260311T230937Z
UID:10002331-1894213800-1894217400@pilgrimrestphx.org
SUMMARY:Bible Study
DESCRIPTION:
URL:https://pilgrimrestphx.org/event/bible-study-9/2030-01-09/
END:VEVENT
BEGIN:VEVENT
DTSTART;TZID=UTC:20300113T080000
DTEND;TZID=UTC:20300113T093000
DTSTAMP:20260424T081604
CREATED:20240501T175819Z
LAST-MODIFIED:20240501T175819Z
UID:10001741-1894521600-1894527000@pilgrimrestphx.org
SUMMARY:Early Morning Worship
DESCRIPTION:
URL:https://pilgrimrestphx.org/event/early-morning-worship/2030-01-13/
LOCATION:Pilgrim Rest Baptist Church\, 1401 E Jefferson St\, Phoenix\, AZ 85034\, United States
CATEGORIES:Worship
END:VEVENT
BEGIN:VEVENT
DTSTART;TZID=UTC:20300113T104500
DTEND;TZID=UTC:20300113T123000
DTSTAMP:20260424T081604
CREATED:20240501T175932Z
LAST-MODIFIED:20240501T175932Z
UID:10001789-1894531500-1894537800@pilgrimrestphx.org
SUMMARY:Mid-Morning Worship
DESCRIPTION:
URL:https://pilgrimrestphx.org/event/mid-morning-worship/2030-01-13/
LOCATION:Pilgrim Rest Baptist Church\, 1401 E Jefferson St\, Phoenix\, AZ 85034\, United States
CATEGORIES:Worship
END:VEVENT
BEGIN:VEVENT
DTSTART;TZID=UTC:20300120T080000
DTEND;TZID=UTC:20300120T093000
DTSTAMP:20260424T081604
CREATED:20240501T175819Z
LAST-MODIFIED:20240501T175819Z
UID:10001742-1895126400-1895131800@pilgrimrestphx.org
SUMMARY:Early Morning Worship
DESCRIPTION:
URL:https://pilgrimrestphx.org/event/early-morning-worship/2030-01-20/
LOCATION:Pilgrim Rest Baptist Church\, 1401 E Jefferson St\, Phoenix\, AZ 85034\, United States
CATEGORIES:Worship
END:VEVENT
BEGIN:VEVENT
DTSTART;TZID=UTC:20300120T104500
DTEND;TZID=UTC:20300120T123000
DTSTAMP:20260424T081604
CREATED:20240501T175932Z
LAST-MODIFIED:20240501T175932Z
UID:10001790-1895136300-1895142600@pilgrimrestphx.org
SUMMARY:Mid-Morning Worship
DESCRIPTION:
URL:https://pilgrimrestphx.org/event/mid-morning-worship/2030-01-20/
LOCATION:Pilgrim Rest Baptist Church\, 1401 E Jefferson St\, Phoenix\, AZ 85034\, United States
CATEGORIES:Worship
END:VEVENT
BEGIN:VEVENT
DTSTART;TZID=UTC:20300127T080000
DTEND;TZID=UTC:20300127T093000
DTSTAMP:20260424T081604
CREATED:20240501T175819Z
LAST-MODIFIED:20240501T175819Z
UID:10001743-1895731200-1895736600@pilgrimrestphx.org
SUMMARY:Early Morning Worship
DESCRIPTION:
URL:https://pilgrimrestphx.org/event/early-morning-worship/2030-01-27/
LOCATION:Pilgrim Rest Baptist Church\, 1401 E Jefferson St\, Phoenix\, AZ 85034\, United States
CATEGORIES:Worship
END:VEVENT
BEGIN:VEVENT
DTSTART;TZID=UTC:20300127T104500
DTEND;TZID=UTC:20300127T123000
DTSTAMP:20260424T081604
CREATED:20240501T175932Z
LAST-MODIFIED:20240501T175932Z
UID:10001791-1895741100-1895747400@pilgrimrestphx.org
SUMMARY:Mid-Morning Worship
DESCRIPTION:
URL:https://pilgrimrestphx.org/event/mid-morning-worship/2030-01-27/
LOCATION:Pilgrim Rest Baptist Church\, 1401 E Jefferson St\, Phoenix\, AZ 85034\, United States
CATEGORIES:Worship
END:VEVENT
END:VCALENDAR