BEGIN:VCALENDAR
VERSION:2.0
PRODID:-//Pilgrim Rest Baptist Church - ECPv6.15.17.1//NONSGML v1.0//EN
CALSCALE:GREGORIAN
METHOD:PUBLISH
X-ORIGINAL-URL:https://pilgrimrestphx.org
X-WR-CALDESC:Events for Pilgrim Rest Baptist Church
REFRESH-INTERVAL;VALUE=DURATION:PT1H
X-Robots-Tag:noindex
X-PUBLISHED-TTL:PT1H
BEGIN:VTIMEZONE
TZID:UTC
BEGIN:STANDARD
TZOFFSETFROM:+0000
TZOFFSETTO:+0000
TZNAME:UTC
DTSTART:20290101T000000
END:STANDARD
END:VTIMEZONE
BEGIN:VEVENT
DTSTART;TZID=UTC:20300303T080000
DTEND;TZID=UTC:20300303T093000
DTSTAMP:20260424T105544
CREATED:20240501T175819Z
LAST-MODIFIED:20240501T175819Z
UID:10001748-1898755200-1898760600@pilgrimrestphx.org
SUMMARY:Early Morning Worship
DESCRIPTION:
URL:https://pilgrimrestphx.org/event/early-morning-worship/2030-03-03/
LOCATION:Pilgrim Rest Baptist Church\, 1401 E Jefferson St\, Phoenix\, AZ 85034\, United States
CATEGORIES:Worship
END:VEVENT
BEGIN:VEVENT
DTSTART;TZID=UTC:20300303T104500
DTEND;TZID=UTC:20300303T123000
DTSTAMP:20260424T105544
CREATED:20240501T175932Z
LAST-MODIFIED:20240501T175932Z
UID:10001796-1898765100-1898771400@pilgrimrestphx.org
SUMMARY:Mid-Morning Worship
DESCRIPTION:
URL:https://pilgrimrestphx.org/event/mid-morning-worship/2030-03-03/
LOCATION:Pilgrim Rest Baptist Church\, 1401 E Jefferson St\, Phoenix\, AZ 85034\, United States
CATEGORIES:Worship
END:VEVENT
BEGIN:VEVENT
DTSTART;TZID=UTC:20300306T183000
DTEND;TZID=UTC:20300306T193000
DTSTAMP:20260424T105544
CREATED:20260311T231104Z
LAST-MODIFIED:20260311T231104Z
UID:10002392-1899052200-1899055800@pilgrimrestphx.org
SUMMARY:Bible Study
DESCRIPTION:
URL:https://pilgrimrestphx.org/event/bible-study-10/2030-03-06/
END:VEVENT
BEGIN:VEVENT
DTSTART;TZID=UTC:20300310T080000
DTEND;TZID=UTC:20300310T093000
DTSTAMP:20260424T105544
CREATED:20240501T175819Z
LAST-MODIFIED:20240501T175819Z
UID:10001749-1899360000-1899365400@pilgrimrestphx.org
SUMMARY:Early Morning Worship
DESCRIPTION:
URL:https://pilgrimrestphx.org/event/early-morning-worship/2030-03-10/
LOCATION:Pilgrim Rest Baptist Church\, 1401 E Jefferson St\, Phoenix\, AZ 85034\, United States
CATEGORIES:Worship
END:VEVENT
BEGIN:VEVENT
DTSTART;TZID=UTC:20300310T104500
DTEND;TZID=UTC:20300310T123000
DTSTAMP:20260424T105544
CREATED:20240501T175932Z
LAST-MODIFIED:20240501T175932Z
UID:10001797-1899369900-1899376200@pilgrimrestphx.org
SUMMARY:Mid-Morning Worship
DESCRIPTION:
URL:https://pilgrimrestphx.org/event/mid-morning-worship/2030-03-10/
LOCATION:Pilgrim Rest Baptist Church\, 1401 E Jefferson St\, Phoenix\, AZ 85034\, United States
CATEGORIES:Worship
END:VEVENT
BEGIN:VEVENT
DTSTART;TZID=UTC:20300313T183000
DTEND;TZID=UTC:20300313T193000
DTSTAMP:20260424T105544
CREATED:20260311T230937Z
LAST-MODIFIED:20260311T230937Z
UID:10002333-1899657000-1899660600@pilgrimrestphx.org
SUMMARY:Bible Study
DESCRIPTION:
URL:https://pilgrimrestphx.org/event/bible-study-9/2030-03-13/
END:VEVENT
BEGIN:VEVENT
DTSTART;TZID=UTC:20300317T080000
DTEND;TZID=UTC:20300317T093000
DTSTAMP:20260424T105544
CREATED:20240501T175819Z
LAST-MODIFIED:20240501T175819Z
UID:10001750-1899964800-1899970200@pilgrimrestphx.org
SUMMARY:Early Morning Worship
DESCRIPTION:
URL:https://pilgrimrestphx.org/event/early-morning-worship/2030-03-17/
LOCATION:Pilgrim Rest Baptist Church\, 1401 E Jefferson St\, Phoenix\, AZ 85034\, United States
CATEGORIES:Worship
END:VEVENT
BEGIN:VEVENT
DTSTART;TZID=UTC:20300317T104500
DTEND;TZID=UTC:20300317T123000
DTSTAMP:20260424T105544
CREATED:20240501T175932Z
LAST-MODIFIED:20240501T175932Z
UID:10001798-1899974700-1899981000@pilgrimrestphx.org
SUMMARY:Mid-Morning Worship
DESCRIPTION:
URL:https://pilgrimrestphx.org/event/mid-morning-worship/2030-03-17/
LOCATION:Pilgrim Rest Baptist Church\, 1401 E Jefferson St\, Phoenix\, AZ 85034\, United States
CATEGORIES:Worship
END:VEVENT
BEGIN:VEVENT
DTSTART;TZID=UTC:20300324T080000
DTEND;TZID=UTC:20300324T093000
DTSTAMP:20260424T105544
CREATED:20240501T175819Z
LAST-MODIFIED:20240501T175819Z
UID:10001751-1900569600-1900575000@pilgrimrestphx.org
SUMMARY:Early Morning Worship
DESCRIPTION:
URL:https://pilgrimrestphx.org/event/early-morning-worship/2030-03-24/
LOCATION:Pilgrim Rest Baptist Church\, 1401 E Jefferson St\, Phoenix\, AZ 85034\, United States
CATEGORIES:Worship
END:VEVENT
BEGIN:VEVENT
DTSTART;TZID=UTC:20300324T104500
DTEND;TZID=UTC:20300324T123000
DTSTAMP:20260424T105544
CREATED:20240501T175932Z
LAST-MODIFIED:20240501T175932Z
UID:10001799-1900579500-1900585800@pilgrimrestphx.org
SUMMARY:Mid-Morning Worship
DESCRIPTION:
URL:https://pilgrimrestphx.org/event/mid-morning-worship/2030-03-24/
LOCATION:Pilgrim Rest Baptist Church\, 1401 E Jefferson St\, Phoenix\, AZ 85034\, United States
CATEGORIES:Worship
END:VEVENT
BEGIN:VEVENT
DTSTART;TZID=UTC:20300331T080000
DTEND;TZID=UTC:20300331T093000
DTSTAMP:20260424T105544
CREATED:20240501T175819Z
LAST-MODIFIED:20240501T175819Z
UID:10001752-1901174400-1901179800@pilgrimrestphx.org
SUMMARY:Early Morning Worship
DESCRIPTION:
URL:https://pilgrimrestphx.org/event/early-morning-worship/2030-03-31/
LOCATION:Pilgrim Rest Baptist Church\, 1401 E Jefferson St\, Phoenix\, AZ 85034\, United States
CATEGORIES:Worship
END:VEVENT
BEGIN:VEVENT
DTSTART;TZID=UTC:20300331T104500
DTEND;TZID=UTC:20300331T123000
DTSTAMP:20260424T105544
CREATED:20240501T175932Z
LAST-MODIFIED:20240501T175932Z
UID:10001800-1901184300-1901190600@pilgrimrestphx.org
SUMMARY:Mid-Morning Worship
DESCRIPTION:
URL:https://pilgrimrestphx.org/event/mid-morning-worship/2030-03-31/
LOCATION:Pilgrim Rest Baptist Church\, 1401 E Jefferson St\, Phoenix\, AZ 85034\, United States
CATEGORIES:Worship
END:VEVENT
END:VCALENDAR