BEGIN:VCALENDAR
VERSION:2.0
PRODID:-//Pilgrim Rest Baptist Church - ECPv6.15.17.1//NONSGML v1.0//EN
CALSCALE:GREGORIAN
METHOD:PUBLISH
X-WR-CALNAME:Pilgrim Rest Baptist Church
X-ORIGINAL-URL:https://pilgrimrestphx.org
X-WR-CALDESC:Events for Pilgrim Rest Baptist Church
REFRESH-INTERVAL;VALUE=DURATION:PT1H
X-Robots-Tag:noindex
X-PUBLISHED-TTL:PT1H
BEGIN:VTIMEZONE
TZID:UTC
BEGIN:STANDARD
TZOFFSETFROM:+0000
TZOFFSETTO:+0000
TZNAME:UTC
DTSTART:20290101T000000
END:STANDARD
END:VTIMEZONE
BEGIN:VEVENT
DTSTART;TZID=UTC:20300605T183000
DTEND;TZID=UTC:20300605T193000
DTSTAMP:20260424T151421
CREATED:20260311T231104Z
LAST-MODIFIED:20260311T231104Z
UID:10002395-1906914600-1906918200@pilgrimrestphx.org
SUMMARY:Bible Study
DESCRIPTION:
URL:https://pilgrimrestphx.org/event/bible-study-10/2030-06-05/
END:VEVENT
BEGIN:VEVENT
DTSTART;TZID=UTC:20300612T183000
DTEND;TZID=UTC:20300612T193000
DTSTAMP:20260424T151421
CREATED:20260311T230937Z
LAST-MODIFIED:20260311T230937Z
UID:10002336-1907519400-1907523000@pilgrimrestphx.org
SUMMARY:Bible Study
DESCRIPTION:
URL:https://pilgrimrestphx.org/event/bible-study-9/2030-06-12/
END:VEVENT
END:VCALENDAR